BEGIN:VCALENDAR
VERSION:2.0
PRODID:-//ChamberMaster//Event Calendar 2.0//EN
METHOD:PUBLISH
X-PUBLISHED-TTL:P3D
REFRESH-INTERVAL:P3D
CALSCALE:GREGORIAN
BEGIN:VEVENT
DTSTART:20161020T180000Z
DTEND:20161020T210000Z
X-MICROSOFT-CDO-ALLDAYEVENT:FALSE
SUMMARY:JOE's Place Open House
DESCRIPTION:Open house for JOE's Place to celebrate one year in our new building.\n\n\n\nJoin us for a meal\, a tour of our facility\, and see what God is doing to help the homeless and at-risk youth in our community.\n\n\n\nTwo different times to come and visit: 11 a.m. - 2 p.m. and 5 p.m. - 8 p.m.
X-ALT-DESC;FMTTYPE=text/html:<strong>Open house for JOE&#39\;s Place to celebrate one year in our new building.<br />\n<br />\nJoin us for a meal\, a tour of our facility\, and see what God is doing to help the homeless and at-risk youth in our community.<br />\n<br />\nTwo different times to come and visit: 11 a.m. - 2 p.m. and 5 p.m. - 8 p.m.</strong>
LOCATION:Joe's Place 130 SE K Street
UID:e.1818.17898
SEQUENCE:3
DTSTAMP:20260425T163020Z
URL:https://business.grantspasschamber.org/events/details/joe-s-place-open-house-17898
END:VEVENT

END:VCALENDAR
