BEGIN:VCALENDAR
VERSION:2.0
PRODID:-//ChamberMaster//Event Calendar 2.0//EN
METHOD:PUBLISH
X-PUBLISHED-TTL:P3D
REFRESH-INTERVAL:P3D
CALSCALE:GREGORIAN
BEGIN:VEVENT
DTSTART:20171206T020000Z
DTEND:20171206T030000Z
X-MICROSOFT-CDO-ALLDAYEVENT:FALSE
SUMMARY:Josephine Co. Energize Rogue Workshop
DESCRIPTION:Make your home or small business more energy efficient and cozy by upgrading with a discounted ductless heat pump!\n\n\n\nEnergize Rogue is a limited-time opportunity to purchase a ductless heat pump at a discounted rate through a community group-purchasing program\, and reduce your energy use by 25-50% over traditional heating and cooling systems.\n\n\n\nIn addition to the group purchase discount\, residential utility customers may also qualify for state tax credits of 50% off the equipment price before 12/31/17. Pacific Power customers may also qualify for $800-$1\,000 in rebates through Energy Trust of Oregon if upgrading from another electric heat source. Attend a free workshop to qualify\, and learn about ductless heat pumps\, energy and cost savings associated with the technology\, and eligibility for cash rebates and tax credits. Takes place at the AllCare Heath Community Room in Grants Pass.\n\n\n\nSpace is limited! Register online in advance: http://energizerogue.org/ or call 541.236.5027.
X-ALT-DESC;FMTTYPE=text/html:<strong>Make your home or small business more energy efficient and cozy by upgrading with a discounted ductless heat pump!<br />\n<br />\nEnergize Rogue is a limited-time opportunity to purchase a ductless heat pump at a discounted rate through a community group-purchasing program\, and reduce your energy use by 25-50% over traditional heating and cooling systems.<br />\n<br />\nIn addition to the group purchase discount\, residential utility customers may also qualify for state tax credits of 50% off the equipment price before 12/31/17. Pacific Power customers may also qualify for $800-$1\,000 in rebates through Energy Trust of Oregon if upgrading from another electric heat source. Attend a free workshop to qualify\, and learn about ductless heat pumps\, energy and cost savings associated with the technology\, and eligibility for cash rebates and tax credits. Takes place at the AllCare Heath Community Room in Grants Pass.<br />\n<br />\nSpace is limited! Register online in advance: http://energizerogue.org/ or call 541.236.5027.</strong>
LOCATION:AllCare Health Community Room 1701 NE 7th St\, Grants Pass\, OR 97526
UID:e.1818.24865
SEQUENCE:3
DTSTAMP:20260424T163536Z
URL:https://business.grantspasschamber.org/events/details/josephine-co-energize-rogue-workshop-24865
END:VEVENT

END:VCALENDAR
