BEGIN:VCALENDAR
VERSION:2.0
PRODID:-//ChamberMaster//Event Calendar 2.0//EN
METHOD:PUBLISH
X-PUBLISHED-TTL:P3D
REFRESH-INTERVAL:P3D
CALSCALE:GREGORIAN
BEGIN:VEVENT
DTSTART:20160817T170000Z
DTEND:20160818T060000Z
X-MICROSOFT-CDO-ALLDAYEVENT:FALSE
SUMMARY:Josephine County Fair\, 2016
DESCRIPTION:2016 Fair Season starts\n\nWednesday through Saturday\n\n\n\nWheeler Toyota Day\n\nSeniors (65+) and Veterans:  $6.00 (reg. $10)\n\n\n\nDaily Ground Acts:\n\nLEGENDARY LONGHORNS\n\nOur Celebrity Steers have high-profile\, public careers with extensive accomplishments. They are very experienced in crowds and have proven to be extremely gentle and kind. They have been hauled all over the western United States performing in events of all kinds including shows\, parades\, rodeos\, etc. Both are TLBAA registered. They are very unique\, gentle well trained steers.\n\nCome visit them during the 2016 Fair and watch for their nightly shows:\n\nThursday\, Friday and Saturday night in the Indoor Arena\n\n\n\nWOOL BUSTERS (mutton busting)\n\n"Creating the Next Generation of Rodeo Champions" one sheep at a time. Wool Busters is family oriented\, providing Mutton Bustin' entertainment in conjunction with regional fairs and rodeos. Mutton Bustin' stirs up the interest in the sport of rodeo\, farm animals\, 4-H clubs and most of all building self confidence among our young children. They will provide real miniature bucking chutes\, portable arena\, clown/sheep wranglers\, rodeo music and award ribbons\, trophies and buckles to create a real rodeo atmosphere for each rider in a safe and controlled environment. \n\n\n\nANNIE THE CLOWN\n\nProfessional storyteller and Children's entertainer\, Anna Minter\, AKA Miss Annie\, has been delighting audiences\, young and old since 1984 with her puppet shows.  Join in the fun as her mischievous puppets learn about manners\, values and more.  After the show\, Miss Annie invites the children over for some "hands-on\," interactive\, creative play with her kid friendly\, puppet stages and barrels of puppets.  Make sure to catch up with Miss Annie\, between show times for free face painting\n\n\n\nALEX ZERBE Award Winning Comedy!\n\nAlex is a master of physical comedy\, juggling and magic. He is a fantastic choice if you need a clean comedian\, corporate entertainer\, or emcee. He's a juggler\, magician and an expert at making lists of mind-blowing skills that improve his search engine optimization \;-)\n\nLaughter is the best medicine\, so if you feel a cold coming on or just need a smile to brighten your day\, come to the Josephine County Fair in 2016 to see a winning contestant in America's Got Talent.. \n\n JD PLATT AND THE K-9 KINGS\n\nThe popularity and variety of the K9 KINGS is great entertainment for the whole family! \n\nShows 2-3 times a day\, 20-30 minutes each \n\nFeaturing up to:  \n\n\n	ELEVEN variety of breeds\n	The  ONLY daredevil dog agility \n	One of the RAREST breeds in the world\n	RESCUE dogs \n	The LARGEST meet\, greet\, & pet area
X-ALT-DESC;FMTTYPE=text/html:<strong><span style="font-size:20px\;">&nbsp\;2016 Fair Season starts<br />\nWednesday through Saturday</span><br />\n<br />\n<span style="color:#FF0000\;"><span style="font-size: 18px\;"><u>Wheeler Toyota Day</u><br />\nSeniors (65+) and Veterans:&nbsp\; $6.00 (reg. $10)</span></span><br />\n<br />\n<span style="color:#FF0000\;"><span style="font-size: 20px\;"><u>Daily Ground Acts:</u></span></span></strong><br />\n<strong><span style="font-family:garamond\,serif\;"><span style="font-size:16.0pt\;">LEGENDARY LONGHORNS</span></span></strong><br />\n<strong><span style="font-family:garamond\,serif\;"><span style="font-size:12.0pt\;">Our Celebrity Steers have high-profile\, public careers with extensive accomplishments. They are very experienced in crowds and have proven to be extremely gentle and kind. They have been hauled all over the western United States performing in events of all kinds including shows\, parades\, rodeos\, etc. Both are TLBAA registered. They are very unique\, gentle well trained steers.</span></span><br />\n<span style="font-family:garamond\,serif\;"><span style="font-size:12.0pt\;">Come visit them during the 2016 Fair and watch for their nightly shows:</span></span><br />\n<span style="font-family:garamond\,serif\;"><span style="font-size:12.0pt\;">Thursday\, Friday and Saturday night in the Indoor Arena</span></span><br />\n<br />\n<span style="font-family:garamond\,serif\;"><span style="font-size:16.0pt\;">WOOL BUSTERS </span></span></strong><span style="font-family:garamond\,serif\;"><span style="font-size:16.0pt\;">(mutton busting)</span></span><br />\n<strong><span style="font-family:garamond\,serif\;"><u>&quot\;Creating the Next Generation of Rodeo Champions</u>&quot\; one sheep at a time. Wool Busters is family oriented\, providing Mutton Bustin&#39\; entertainment in conjunction with regional fairs and rodeos. Mutton Bustin&#39\; stirs up the interest in the sport of rodeo\, farm animals\, 4-H clubs and most of all building self confidence among our young children. They will provide real miniature bucking chutes\, portable arena\, clown/sheep wranglers\, rodeo music and award ribbons\, trophies and buckles to create a real rodeo atmosphere for each rider in a safe and controlled environment. </span><br />\n<br />\n<u><span style="font-family:garamond\,serif\;"><span style="font-size:16.0pt\;">ANNIE </span></span></u></strong><u><strong><span style="font-family:garamond\,serif\;"><span style="font-size:16.0pt\;">THE CLOWN</span></span></strong></u><br />\n<strong><span style="font-family:garamond\,serif\;"><span style="font-size:12.0pt\;">Professional storyteller and Children&rsquo\;s entertainer\, Anna Minter\, AKA Miss Annie\, has been delighting audiences\, young and old since 1984 with her puppet shows.&nbsp\; Join in the fun as her mischievous puppets learn about manners\, values and more.&nbsp\; After the show\, Miss Annie invites the children over for some &ldquo\;hands-on\,&rdquo\; interactive\, creative play with her kid friendly\, puppet stages and barrels of puppets.&nbsp\; Make sure to catch up with Miss Annie\, between show times for free face painting</span><br />\n<br />\n<span style="font-size:14.0pt\;"><u>ALEX ZERBE</u> Award Winning Comedy!</span><br />\n<span style="font-size:12.0pt\;">Alex is a master of physical comedy\, juggling and magic. He is a fantastic choice if you need a clean comedian\, corporate entertainer\, or emcee. He&rsquo\;s a juggler\, magician and an expert at making lists of mind-blowing skills that improve his search engine optimization \;-)</span></span><br />\n<span style="font-family:garamond\,serif\;"><span style="font-size:12.0pt\;">Laughter is the best medicine\, so if you feel a cold coming on or just need a smile to brighten your day\, come to the Josephine County Fair in 2016 to see a winning contestant in America&rsquo\;s Got Talent.. </span></span><br />\n&nbsp\;<span style="font-family:garamond\,serif\;"><span style="font-size:16.0pt\;">JD PLATT AND THE K-9 </span></span><span style="font-size:20px\;">KINGS</span><br />\n<span style="font-family:garamond\,serif\;"><span style="font-size:12.0pt\;">The popularity and variety of the K9 KINGS is great entertainment for the whole family! </span></span><br />\n<span style="font-family:garamond\,serif\;"><span style="font-size:12.0pt\;">Shows 2-3 times a day\,&nbsp\;20-30 minutes&nbsp\;each </span></span><br />\n<span style="font-family:garamond\,serif\;"><span style="font-size:12.0pt\;">Featuring&nbsp\;up to:</span></span> &nbsp\;</strong>\n\n<ul>\n	<li><strong><span style="font-family:garamond\,serif\;"><span style="font-size:12.0pt\;">ELEVEN variety of breeds</span></span></strong></li>\n	<li><strong><span style="font-family:garamond\,serif\;"><span style="font-size:12.0pt\;">The&nbsp\; ONLY daredevil dog agility </span></span></strong></li>\n	<li><strong><span style="font-family:garamond\,serif\;"><span style="font-size:12.0pt\;">One of the RAREST breeds in the world</span></span></strong></li>\n	<li><strong><span style="font-family:garamond\,serif\;"><span style="font-size:12.0pt\;">RESCUE dogs </span></span></strong></li>\n	<li><strong><span style="font-family:garamond\,serif\;"><span style="font-size:12.0pt\;">The LARGEST meet\, greet\, &amp\; pet area</span></span></strong></li>\n</ul>\n<strong>&nbsp\;<br />\n<br />\n<br />\n<br />\n<br />\n<br />\n&nbsp\;</strong><br />\n<br />\n&nbsp\;
LOCATION:Josephine County Fairgrounds 1451 Fairgrounds Rd Grants Pass
UID:e.1818.11080
SEQUENCE:3
DTSTAMP:20260425T192046Z
URL:https://business.grantspasschamber.org/events/details/josephine-county-fair-2016-11080
END:VEVENT

END:VCALENDAR
