BEGIN:VCALENDAR
VERSION:2.0
PRODID:-//ChamberMaster//Event Calendar 2.0//EN
METHOD:PUBLISH
X-PUBLISHED-TTL:P3D
REFRESH-INTERVAL:P3D
CALSCALE:GREGORIAN
BEGIN:VEVENT
DTSTART:20200415T180000Z
DTEND:20200416T061500Z
X-MICROSOFT-CDO-ALLDAYEVENT:FALSE
SUMMARY:Joy Hiler Arbonne Detox Tea
DESCRIPTION:Please join me on Facebook live and find out how to let toxins go out of your liver and kidneys etc. Arbonne Detox tea is gentle enough to drink everyday and has a light and refreshing flavor!!!\n\n\n\nIf you miss it please find it on my story!
X-ALT-DESC;FMTTYPE=text/html:Please join me on Facebook live and find out how to let toxins go out of your liver and kidneys etc. Arbonne Detox tea is gentle enough to drink everyday and has a light and refreshing flavor!!!<br />\n<br />\nIf you miss it please find it on my story!<br />\n<br />\n&nbsp\;
LOCATION:Facebook Live!
UID:e.1818.33383
SEQUENCE:3
DTSTAMP:20260424T025601Z
URL:https://business.grantspasschamber.org/events/details/joy-hiler-arbonne-detox-tea-33383
END:VEVENT

END:VCALENDAR
