BEGIN:VCALENDAR
VERSION:2.0
PRODID:-//ChamberMaster//Event Calendar 2.0//EN
METHOD:PUBLISH
X-PUBLISHED-TTL:P3D
REFRESH-INTERVAL:P3D
CALSCALE:GREGORIAN
BEGIN:VEVENT
DTSTART:20200603T180000Z
DTEND:20200604T061500Z
X-MICROSOFT-CDO-ALLDAYEVENT:FALSE
SUMMARY:Joy Hiler Arbonne Eyebrows
DESCRIPTION:Please join me on Facebook live to see how to tame those brows!!!\n\n\n\nIf you miss it please find it on my story!
X-ALT-DESC;FMTTYPE=text/html:Please join me on Facebook live to see how to tame those brows!!!<br />\n<br />\nIf you miss it please find it on my story!<br />\n<br />\n&nbsp\;
LOCATION:Facebook Live!
UID:e.1818.33467
SEQUENCE:3
DTSTAMP:20260424T070411Z
URL:https://business.grantspasschamber.org/events/details/joy-hiler-arbonne-eyebrows-33467
END:VEVENT

END:VCALENDAR
