BEGIN:VCALENDAR
VERSION:2.0
PRODID:-//ChamberMaster//Event Calendar 2.0//EN
METHOD:PUBLISH
X-PUBLISHED-TTL:P3D
REFRESH-INTERVAL:P3D
CALSCALE:GREGORIAN
BEGIN:VEVENT
DTSTART:20200416T180000Z
DTEND:20200417T061500Z
X-MICROSOFT-CDO-ALLDAYEVENT:FALSE
SUMMARY:Joy Hiler Arbonne Eyeshadow and Eyeliner application
DESCRIPTION:Please join me on Facebook live and find how to apply Eye shadow and Eyeliner and what makes Arbonne different!\n\n\n\nIf you miss it please find it on my story!
X-ALT-DESC;FMTTYPE=text/html:Please join me on Facebook live and find how to apply Eye shadow and Eyeliner and what makes Arbonne different!<br />\n<br />\nIf you miss it please find it on my story!<br />\n<br />\n&nbsp\;
LOCATION:Facebook Live!
UID:e.1818.33384
SEQUENCE:3
DTSTAMP:20260424T050748Z
URL:https://business.grantspasschamber.org/events/details/joy-hiler-arbonne-eyeshadow-and-eyeliner-application-33384
END:VEVENT

END:VCALENDAR
