BEGIN:VCALENDAR
VERSION:2.0
PRODID:-//ChamberMaster//Event Calendar 2.0//EN
METHOD:PUBLISH
X-PUBLISHED-TTL:P3D
REFRESH-INTERVAL:P3D
CALSCALE:GREGORIAN
BEGIN:VEVENT
DTSTART:20161019T160000Z
DTEND:20161020T000000Z
X-MICROSOFT-CDO-ALLDAYEVENT:FALSE
SUMMARY:Judy's Grants Pass Florist and Central Point Florist to give away 10\,000 roses
DESCRIPTION:10\,000 FREE roses to Petal it Forward.\nJudy's Grants Pass Florist\, Central Point Florist\, along with Bicoastal Media will be handing out\n\n10\,000 roses\n\n10\,000 FREE roses to Petal it Forward\n\n\n\nJudy's Central Point Florist and Grants Pass Florist\, along with Bicoastal media will be handing out 10\,000 roses\n\n\n\nWednesday\, October 19th 2016 starting at 9am and running until all the roses have been handed out\n\n\n\nFolks coming in the door will get a FREE dozen roses and they are asked to divide their dozen up\, however they would like\, and make others happy when they Petal it Forward.  No purchase necessary.\n\n\n\nFlowers make people happy\, it's a scientific fact.\n\n\n\n80% of people surveyed say that receiving flowers makes them feel happy\n\n\n\n88% say giving the gift of flowers makes them feel happy. and running until all the roses have been handed out\nFolks coming in the door will get a FREE dozen roses and they are asked to divide their dozen up\, however they would like\, and make others happy when they Petal it Forward. \n\n\n\nNo purchase necessary.\n\n\n\nFlowers make people happy\, it's a scientific fact.\n\n\n\n80% of people surveyed say that receiving flowers makes them feel happy\n\n\n\n88% say giving the gift of flowers makes them feel happy
X-ALT-DESC;FMTTYPE=text/html:<h2><span style="font-family:tahoma"><strong>10\,000 FREE roses to Petal it Forward.</strong></span></h2>\n<span style="font-size:14px"><span style="font-family:tahoma"><strong>Judy&#39\;s Grants Pass Florist\, Central Point Florist\, along with Bicoastal Media <em><span style="font-size:16px\;">will be handing out</span></em></strong><br />\n<em><span style="font-size:16px\;"><strong>10\,000 roses</strong></span></em></span></span>\n\n<p><span style="font-size:14px"><span style="font-size:18px\;"><strong><u>10\,000 FREE roses to Petal it Forward</u></strong></span><br />\n<br />\n<strong>Judy&#39\;s Central Point Florist and Grants Pass Florist\, along with Bicoastal media will be handing out 10\,000 roses</strong><br />\n<br />\n<strong><span style="font-family:tahoma">Wednesday\, October 19th 2016 starting at<u> 9am and running until all the roses have been handed out</u></span></strong><br />\n<br />\n<strong>Folks coming in the door will get a FREE dozen roses and they are asked to divide their dozen up\, however they would like\, and make others happy when they Petal it Forward.&nbsp\; <u>No purchase necessary.</u></strong><br />\n<br />\n<strong>Flowers make people happy\, it&#39\;s a scientific fact.</strong><br />\n<br />\n<strong>80% of people surveyed say that receiving flowers makes them feel happy</strong><br />\n<br />\n<strong>88% say giving the gift of flowers makes them feel happy.<span style="font-family:tahoma"> and running until all the roses have been handed out</span></strong></span></p>\n<span style="font-size:14px"><span style="font-family:tahoma"><strong>Folks coming in the door will get a FREE dozen roses and they are asked to divide their dozen up\, however they would like\, and make others happy when they Petal it Forward.&nbsp\;<br />\n<br />\nNo purchase necessary.</strong><br />\n<br />\n<strong>Flowers make people happy\, it&#39\;s a scientific fact.</strong><br />\n<br />\n<strong>80% of people surveyed say that receiving flowers makes them feel happy</strong><br />\n<br />\n<strong>88% say giving the gift of flowers makes them feel happy</strong></span></span>
LOCATION:Judy's Grants Pass Florist at the corner of 7th and Steiger St.
UID:e.1818.17902
SEQUENCE:3
DTSTAMP:20260425T163609Z
URL:https://business.grantspasschamber.org/events/details/judy-s-grants-pass-florist-and-central-point-florist-to-give-away-10-000-roses-17902
END:VEVENT

END:VCALENDAR
