BEGIN:VCALENDAR
VERSION:2.0
PRODID:-//ChamberMaster//Event Calendar 2.0//EN
METHOD:PUBLISH
X-PUBLISHED-TTL:P3D
REFRESH-INTERVAL:P3D
CALSCALE:GREGORIAN
BEGIN:VEVENT
DTSTART:20160930T170000Z
DTEND:20161002T210000Z
X-MICROSOFT-CDO-ALLDAYEVENT:FALSE
SUMMARY:Just Between Friends Consignment Event!
DESCRIPTION:Just Between Friends is Rogue Valleys' Largest Children's Consignment Event. 25\,000+ gently used children's items and maternity items!\n\n\n\nClothing\, Shoes\, Baby Gear\, Toys\, Books & More. It's a DO NOT MISS Event! If you're interested in consigning\, go to our website at www.medford.jbfsale.com\n\n\n\nThere will be tickets coming for First Time Parents/Grandparents and Teacher Tickets for our Special pre-Sale events. WHEN Friday\, September 30\, 2016 at 10:00 AM - Sunday\, October 2\, 2016 at 2:00 PM (PDT)
X-ALT-DESC;FMTTYPE=text/html:<strong>Just Between Friends is Rogue Valleys&#39\; Largest Children&#39\;s Consignment Event. 25\,000+ gently used children&#39\;s items and maternity items!<br />\n<br />\nClothing\, Shoes\, Baby Gear\, Toys\, Books &amp\; More. It&#39\;s a DO NOT MISS Event! If you&#39\;re interested in consigning\, go to our website at www.medford.jbfsale.com<br />\n<br />\nThere will be tickets coming for First Time Parents/Grandparents and Teacher Tickets for our Special pre-Sale events. WHEN Friday\, September 30\, 2016 at 10:00 AM - Sunday\, October 2\, 2016 at 2:00 PM (PDT)</strong>
LOCATION:The Expo 1 Penninger Road\, Central Point\, OR 97502
UID:e.1818.17762
SEQUENCE:3
DTSTAMP:20260425T162725Z
URL:https://business.grantspasschamber.org/events/details/just-between-friends-consignment-event-17762
END:VEVENT

END:VCALENDAR
