BEGIN:VCALENDAR
VERSION:2.0
PRODID:-//ChamberMaster//Event Calendar 2.0//EN
METHOD:PUBLISH
X-PUBLISHED-TTL:P3D
REFRESH-INTERVAL:P3D
CALSCALE:GREGORIAN
BEGIN:VEVENT
DTSTART:20160719T000000Z
DTEND:20160719T020000Z
X-MICROSOFT-CDO-ALLDAYEVENT:FALSE
SUMMARY:KALE: THE SUPER VEGGIE
DESCRIPTION:All recipes featured will be using versatile and great tasting kale. Participants will learn how to prepare a variety of nutritious kale dishes that everyone will enjoy.\n\n\n\nFREE COOKING CLASS! Class includes recipes as well as samples of each item prepared. Classes will be held in the Demonstration Kitchen on the 4th Floor of the Asante Center for Outpatient Health located at 537 SW Union Avenue in Grants Pass.\n\n\n\nSpace is limited\, reservations are required. Please call and reserve your seat at 541-471-4208.
X-ALT-DESC;FMTTYPE=text/html:<strong>All recipes featured will be using versatile and great tasting kale. Participants will learn how to prepare a variety of nutritious kale dishes that everyone will enjoy.<br />\n<br />\nFREE COOKING CLASS! Class includes recipes as well as samples of each item prepared. Classes will be held in the Demonstration Kitchen on the 4th Floor of the Asante Center for Outpatient Health located at 537 SW Union Avenue in Grants Pass.<br />\n<br />\nSpace is limited\, reservations are required. Please call and reserve your seat at 541-471-4208.</strong>
LOCATION:Asante Center for Outpatient Health 537 SW Union Ave Grants Pass\, OR 97527 Demonstration Kitchen\, Fourth Floor Straight ahead off the elevator
UID:e.1818.17521
SEQUENCE:3
DTSTAMP:20260425T210148Z
URL:https://business.grantspasschamber.org/events/details/kale-the-super-veggie-07-18-2016-17521
END:VEVENT

END:VCALENDAR
