BEGIN:VCALENDAR
VERSION:2.0
PRODID:-//ChamberMaster//Event Calendar 2.0//EN
METHOD:PUBLISH
X-PUBLISHED-TTL:P3D
REFRESH-INTERVAL:P3D
CALSCALE:GREGORIAN
BEGIN:VEVENT
DTSTART:20250323T010000Z
DTEND:20250323T050000Z
X-MICROSOFT-CDO-ALLDAYEVENT:FALSE
SUMMARY:Kamikaze Karaoke at the Post
DESCRIPTION:American Legion Grants Pass Squadron 28 is having Kamikaze Karaoke on Saturday\,  March 22nd.\n\nCome and join and enjoy and have fun time!\n\n \n\nOur hosts are Bob from the band Triple Threat and his wife Wendy\, will be spinning the tunes while participants will provide the vocals. Starting at 6:00pm.\n\n\n\nAlso serving Pulled Pork Sandwiches\, Burgers and Dogs and beverages at the bar. Prices vary depending on the order.\n\n\n\nThe Post is located at 206 NW F St\, Grants Pass
X-ALT-DESC;FMTTYPE=text/html:<div data-olk-copy-source="MessageBody" style="border: 0px\; font-variant-numeric: inherit\; font-variant-east-asian: inherit\; font-variant-alternates: inherit\; font-variant-position: inherit\; font-variant-emoji: inherit\; font-stretch: inherit\; font-size: 15px\; line-height: inherit\; font-family: &quot\;Segoe UI&quot\;\, &quot\;Segoe UI Web (West European)&quot\;\, -apple-system\, BlinkMacSystemFont\, Roboto\, &quot\;Helvetica Neue&quot\;\, sans-serif\; font-optical-sizing: inherit\; font-size-adjust: inherit\; font-kerning: inherit\; font-feature-settings: inherit\; font-variation-settings: inherit\; margin: 0px\; padding: 0px\; vertical-align: baseline\; color: rgb(36\, 36\, 36)\; background-color: rgb(255\, 255\, 255)\;"><span style="font-size:20px\;">American Legion Grants Pass Squadron 28 is having Kamikaze Karaoke on Saturday\,&nbsp\; March 22nd.</span></div>\n\n<div style="border: 0px\; font-variant-numeric: inherit\; font-variant-east-asian: inherit\; font-variant-alternates: inherit\; font-variant-position: inherit\; font-variant-emoji: inherit\; font-stretch: inherit\; font-size: 15px\; line-height: inherit\; font-family: &quot\;Segoe UI&quot\;\, &quot\;Segoe UI Web (West European)&quot\;\, -apple-system\, BlinkMacSystemFont\, Roboto\, &quot\;Helvetica Neue&quot\;\, sans-serif\; font-optical-sizing: inherit\; font-size-adjust: inherit\; font-kerning: inherit\; font-feature-settings: inherit\; font-variation-settings: inherit\; margin: 0px\; padding: 0px\; vertical-align: baseline\; color: rgb(36\, 36\, 36)\; background-color: rgb(255\, 255\, 255)\;"><span style="font-size:20px\;">Come and join and&nbsp\;enjoy and have fun&nbsp\;time!</span><br />\n&nbsp\;</div>\n\n<div style="border: 0px\; font-variant-numeric: inherit\; font-variant-east-asian: inherit\; font-variant-alternates: inherit\; font-variant-position: inherit\; font-variant-emoji: inherit\; font-stretch: inherit\; font-size: 15px\; line-height: inherit\; font-family: &quot\;Segoe UI&quot\;\, &quot\;Segoe UI Web (West European)&quot\;\, -apple-system\, BlinkMacSystemFont\, Roboto\, &quot\;Helvetica Neue&quot\;\, sans-serif\; font-optical-sizing: inherit\; font-size-adjust: inherit\; font-kerning: inherit\; font-feature-settings: inherit\; font-variation-settings: inherit\; margin: 0px\; padding: 0px\; vertical-align: baseline\; color: rgb(36\, 36\, 36)\; background-color: rgb(255\, 255\, 255)\;"><span style="font-size:20px\;">Our hosts are Bob from the band Triple Threat and his wife Wendy\, will be spinning the tunes while participants will provide the vocals. Starting at 6:00pm.<br />\n<br />\n<span style="font-family: &quot\;Segoe UI Web (West European)&quot\;\, &quot\;Segoe UI&quot\;\, -apple-system\, BlinkMacSystemFont\, Roboto\, &quot\;Helvetica Neue&quot\;\, sans-serif\; background-color: rgb(255\, 255\, 255)\;">Also serving Pulled Pork Sandwiches\, Burgers and Dogs and beverages at the bar. Prices vary depending on the order.</span></span></div>\n\n<div style="border: 0px\; font-variant-numeric: inherit\; font-variant-east-asian: inherit\; font-variant-alternates: inherit\; font-variant-position: inherit\; font-variant-emoji: inherit\; font-stretch: inherit\; font-size: 15px\; line-height: inherit\; font-family: &quot\;Segoe UI&quot\;\, &quot\;Segoe UI Web (West European)&quot\;\, -apple-system\, BlinkMacSystemFont\, Roboto\, &quot\;Helvetica Neue&quot\;\, sans-serif\; font-optical-sizing: inherit\; font-size-adjust: inherit\; font-kerning: inherit\; font-feature-settings: inherit\; font-variation-settings: inherit\; margin: 0px\; padding: 0px\; vertical-align: baseline\; color: rgb(36\, 36\, 36)\; background-color: rgb(255\, 255\, 255)\;"><br />\n<span style="font-size:20px\;">The Post is located at 206 NW F St\, Grants Pass</span></div>\n
LOCATION:206 NW F St Grants Pass
UID:e.1818.54167
SEQUENCE:3
DTSTAMP:20260419T152412Z
URL:https://business.grantspasschamber.org/events/details/kamikaze-karaoke-at-the-post-54167
END:VEVENT

END:VCALENDAR
