BEGIN:VCALENDAR
VERSION:2.0
PRODID:-//ChamberMaster//Event Calendar 2.0//EN
METHOD:PUBLISH
X-PUBLISHED-TTL:P3D
REFRESH-INTERVAL:P3D
CALSCALE:GREGORIAN
BEGIN:VEVENT
DTSTART:20260620T233000Z
DTEND:20260621T030000Z
X-MICROSOFT-CDO-ALLDAYEVENT:FALSE
SUMMARY:Karaoke Night
DESCRIPTION:Join us every Monday evening for Karaoke Night at Casablanca Downtown!\n\n\n\nEnjoy our full menu and bar while you sing along with friends and family. 4:30pm-8:00pm.\n\n\n\nCome eat\, drink and sing with us!
X-ALT-DESC;FMTTYPE=text/html:<!--StartFragment--><span style="font-size:20px\;"><span data-olk-copy-source="MessageBody" style="text-align: center\;">Join us every Monday evening for Karaoke Night at Casablanca Downtown!<br />\n<br />\nEnjoy our full menu and bar while you sing along with friends and family. 4:30pm-8:00pm.<br />\n<br />\nCome eat\, drink and sing with us!</span></span><!--EndFragment-->
LOCATION:Casablanca 412 NW 6th St
UID:e.1818.59576
SEQUENCE:3
DTSTAMP:20260422T132730Z
URL:https://business.grantspasschamber.org/events/details/karaoke-night-59576
END:VEVENT

END:VCALENDAR
