BEGIN:VCALENDAR
VERSION:2.0
PRODID:-//ChamberMaster//Event Calendar 2.0//EN
METHOD:PUBLISH
X-PUBLISHED-TTL:P3D
REFRESH-INTERVAL:P3D
CALSCALE:GREGORIAN
BEGIN:VEVENT
DTSTART;VALUE=DATE:20160507
DTEND;VALUE=DATE:20160508
TRANSP:TRANSPARENT
X-MICROSOFT-CDO-ALLDAYEVENT:TRUE
SUMMARY:Kayak - Canoe - Rafting Class
DESCRIPTION:The USCG Auxiliary will offer a Paddlesports America class at RCC in Grants Pass on Saturday\, May 7th.\n\n\n\nKayaking\, canoe\, and rafting skills will be reviewed as well as local regulations.  Upon completetion\, students will be more knowledgeable and safer river\, lake\, and ocean paddler.\n\n\n\nRafters\, canoeists\, and kayakers are boaters too.  Paddlesports America is an exciting safety course designed for the the novice and experienced padddle enthusiast.\n\n\n\nThis three -hour course presents five chapters of safety informtion.\n\n\n\nBring your canoe\, raft\, or kayak for a free safety check and decal after the class.  We will safety check all of your paddling equipment.
X-ALT-DESC;FMTTYPE=text/html:<strong>The USCG Auxiliary will offer a Paddlesports America class at RCC in Grants</strong> <strong>Pass on Saturday\, May 7th.<br />\n<br />\nKayaking\, canoe\, and rafting skills will be reviewed as well as local regulations.&nbsp\; Upon completetion\, students will be more knowledgeable and safer river\, lake\, and ocean paddler.</strong><br />\n<br />\n<strong>Rafters\, canoeists\, and kayakers are boaters too.&nbsp\; Paddlesports America is an exciting safety course designed for the the novice and experienced padddle enthusiast.</strong><br />\n<br />\n<strong>This three -hour course presents five chapters of safety informtion.<br />\n<br />\nBring your canoe\, raft\, or kayak for a free safety check and decal after the class.&nbsp\; We will safety check all of your paddling equipment.</strong>
LOCATION:Rogue Community College Room T-2
UID:e.1818.17436
SEQUENCE:3
DTSTAMP:20260425T235935Z
URL:https://business.grantspasschamber.org/events/details/kayak-canoe-rafting-class-05-07-2016-17436
END:VEVENT

END:VCALENDAR
