BEGIN:VCALENDAR
VERSION:2.0
PRODID:-//ChamberMaster//Event Calendar 2.0//EN
METHOD:PUBLISH
X-PUBLISHED-TTL:P3D
REFRESH-INTERVAL:P3D
CALSCALE:GREGORIAN
BEGIN:VEVENT
DTSTART:20160827T160000Z
DTEND:20160827T210000Z
X-MICROSOFT-CDO-ALLDAYEVENT:FALSE
SUMMARY:Kids Care Fair ~ Back to School Items
DESCRIPTION:Bring your kids down to the Kids Care Fair for Back to School supplies and information\n\n\n\nThey can also receive free hearing\, vision\, and dental screenings.  Other services include emergency child identification fingerprinting\, safety awareness\, fire safety demonstrations\, sno-cones\, bounce house\, and much more\n\n\n\nDrop Office Locations are all Sponsors such as The Venuti Group\, Eye Care Group\, UCAN\, Options\, YMCA\, Siskiyou Community Health Center\, Lions\, Kiwanis\, Boys & Girls Club\, People's Bank\, AllCare
X-ALT-DESC;FMTTYPE=text/html:<strong>Bring your kids down to the Kids Care Fair for Back to School supplies and information<br />\n<br />\nThey can also receive free hearing\, vision\, and dental screenings.&nbsp\; Other services include emergency child identification fingerprinting\, safety awareness\, fire safety demonstrations\, sno-cones\, bounce house\, and much more<br />\n<br />\n<u>Drop Office Locations</u> are all Sponsors such as The Venuti Group\, Eye Care Group\, UCAN\, Options\, YMCA\, Siskiyou Community Health Center\, Lions\, Kiwanis\, Boys &amp\; Girls Club\, People&#39\;s Bank\, AllCare</strong>
LOCATION:Parkway Christian Center
UID:e.1818.17752
SEQUENCE:3
DTSTAMP:20260425T192504Z
URL:https://business.grantspasschamber.org/events/details/kids-care-fair-back-to-school-items-17752
END:VEVENT

END:VCALENDAR
