BEGIN:VCALENDAR
VERSION:2.0
PRODID:-//ChamberMaster//Event Calendar 2.0//EN
METHOD:PUBLISH
X-PUBLISHED-TTL:P3D
REFRESH-INTERVAL:P3D
CALSCALE:GREGORIAN
BEGIN:VEVENT
DTSTART;VALUE=DATE:20160611
DTEND;VALUE=DATE:20160612
TRANSP:TRANSPARENT
X-MICROSOFT-CDO-ALLDAYEVENT:TRUE
SUMMARY:Kids' Dash ~ Fifth Annual
DESCRIPTION:The fifth annual Kids' Dash will have races for children\, plus a play area\, healthy snacks\, and music. Benefits local physical activity and sports programs.
X-ALT-DESC;FMTTYPE=text/html:<strong>The fifth annual Kids&#39\; Dash will have races for children\, plus a play area\, healthy snacks\, and music. Benefits local physical activity and sports programs.</strong>
LOCATION:Grants Pass High School Track
UID:e.1818.15261
SEQUENCE:3
DTSTAMP:20260425T223823Z
URL:https://business.grantspasschamber.org/events/details/kids-dash-fifth-annual-06-11-2016-15261
END:VEVENT

END:VCALENDAR
