BEGIN:VCALENDAR
VERSION:2.0
PRODID:-//ChamberMaster//Event Calendar 2.0//EN
METHOD:PUBLISH
X-PUBLISHED-TTL:P3D
REFRESH-INTERVAL:P3D
CALSCALE:GREGORIAN
BEGIN:VEVENT
DTSTART;VALUE=DATE:20161015
DTEND;VALUE=DATE:20161016
TRANSP:TRANSPARENT
X-MICROSOFT-CDO-ALLDAYEVENT:TRUE
SUMMARY:Kitchen Tour
DESCRIPTION:A peek inside the kitchens of several area homes. Benefits the American Association of University Women.
X-ALT-DESC;FMTTYPE=text/html:<strong>A peek inside the kitchens of several area homes. Benefits the American Association of University Women.</strong>
LOCATION:
UID:e.1818.15513
SEQUENCE:3
DTSTAMP:20260425T162857Z
URL:https://business.grantspasschamber.org/events/details/kitchen-tour-10-15-2016-15513
END:VEVENT

END:VCALENDAR
