BEGIN:VCALENDAR
VERSION:2.0
PRODID:-//ChamberMaster//Event Calendar 2.0//EN
METHOD:PUBLISH
X-PUBLISHED-TTL:P3D
REFRESH-INTERVAL:P3D
CALSCALE:GREGORIAN
BEGIN:VEVENT
DTSTART;VALUE=DATE:20160905
DTEND;VALUE=DATE:20160906
TRANSP:TRANSPARENT
X-MICROSOFT-CDO-ALLDAYEVENT:TRUE
SUMMARY:Labor Day Regatta
DESCRIPTION:The Race is On........Wild River Brewing & Pizza Labor Day Regatta\n\n\n\nStarting at Noon\, a Mass Bank starting Griffin Park heading up river to Baker Park for 4 laps on a 12 miles course\, totaling 48 miles.\n\n\n\n\n\nBaker Park is at the third bridge Downtown (Parkway overpass)
X-ALT-DESC;FMTTYPE=text/html:<strong>The Race is On........Wild River Brewing &amp\; Pizza Labor Day Regatta<br />\n<br />\nStarting at Noon\, a Mass Bank starting Griffin Park heading up river to Baker Park for <u>4</u><u> laps on a 12 miles course\, totaling 48 miles.</u><br />\n<br />\n<br />\nBaker Park is at the third bridge Downtown (Parkway overpass)</strong><br />\n&nbsp\;
LOCATION:Starts at Griffin Park
UID:e.1818.17770
SEQUENCE:3
DTSTAMP:20260425T181102Z
URL:https://business.grantspasschamber.org/events/details/labor-day-regatta-17770
END:VEVENT

END:VCALENDAR
