BEGIN:VCALENDAR
VERSION:2.0
PRODID:-//ChamberMaster//Event Calendar 2.0//EN
METHOD:PUBLISH
X-PUBLISHED-TTL:P3D
REFRESH-INTERVAL:P3D
CALSCALE:GREGORIAN
BEGIN:VEVENT
DTSTART:20161105T020000Z
DTEND:20161105T050000Z
X-MICROSOFT-CDO-ALLDAYEVENT:FALSE
SUMMARY:Labrys Society Presents-- A DRAGmatic Experiment @ The Vault
DESCRIPTION:The QUEENS are coming back!!!!!! Grants Pass are you ready for our Anniversary party? \n\n\n\nSome of your favorite Queens from all over Oregon will be here. Including Hellin Heels\, RiRi Calentaye\, Maleina B-Itchcock\, Sunshine Ray MacPherson and your own Southern Oregon Queen Diva Disaster will be your hostess for the evening. And many more to introduce to you all....\n\n\n\nWe will be at a new venue for this show.\n\nThe Vault @ Shenanigans will be hosting this time. \n\n515 Rogue River Hwy\, Grants Pass OR\n\nCover $5.00 at the door\n\nDJ Jes from Sights and Sounds will be spinning the event away!
X-ALT-DESC;FMTTYPE=text/html:<span style="background-color:rgb(255\, 255\, 255)\; color:rgb(75\, 79\, 86)\; font-family:helvetica\,arial\,sans-serif\; font-size:14px">The QUEENS are coming back!!!!!! Grants Pass are you ready for our Anniversary party?&nbsp\;</span><br />\n<br />\n<span style="background-color:rgb(255\, 255\, 255)\; color:rgb(75\, 79\, 86)\; font-family:helvetica\,arial\,sans-serif\; font-size:14px">Some of your favorite Queens from all over Oregon will be here. Including Hellin Heels\, RiRi Calentaye\, Maleina B-Itchcock\, Sunshine Ray MacPherson and your own Southern Oregon Queen Diva Disaster will be your hostess for the evening. And many more to introduce to you all....</span><br />\n<br />\n<span style="background-color:rgb(255\, 255\, 255)\; color:rgb(75\, 79\, 86)\; font-family:helvetica\,arial\,sans-serif\; font-size:14px">We will be at a new venue for this show.</span><br />\n<span style="background-color:rgb(255\, 255\, 255)\; color:rgb(75\, 79\, 86)\; font-family:helvetica\,arial\,sans-serif\; font-size:14px">The Vault @ Shenanigans will be hosting this time.&nbsp\;</span><br />\n<span style="background-color:rgb(255\, 255\, 255)\; color:rgb(75\, 79\, 86)\; font-family:helvetica\,arial\,sans-serif\; font-size:14px">515 Rogue River Hwy\, Grants Pass OR</span><br />\n<span style="background-color:rgb(255\, 255\, 255)\; color:rgb(75\, 79\, 86)\; font-family:helvetica\,arial\,sans-serif\; font-size:14px">Cover $5.00 at the door</span><br />\n<span style="background-color:rgb(255\, 255\, 255)\; color:rgb(75\, 79\, 86)\; font-family:helvetica\,arial\,sans-serif\; font-size:14px">DJ Jes from Sights and Sounds will be spinning the event away!</span>
LOCATION:The Vault (nightclub) 515 Rogue River Highway Grants Pass\, OR 97527
UID:e.1818.18015
SEQUENCE:3
DTSTAMP:20260425T145216Z
URL:https://business.grantspasschamber.org/events/details/labrys-society-presents-a-dragmatic-experiment-the-vault-18015
END:VEVENT

END:VCALENDAR
