BEGIN:VCALENDAR
VERSION:2.0
PRODID:-//ChamberMaster//Event Calendar 2.0//EN
METHOD:PUBLISH
X-PUBLISHED-TTL:P3D
REFRESH-INTERVAL:P3D
CALSCALE:GREGORIAN
BEGIN:VEVENT
DTSTART:20171105T020000Z
DTEND:20171105T050000Z
X-MICROSOFT-CDO-ALLDAYEVENT:FALSE
SUMMARY:Labrys Society Presents-- GET STUFFED! It's a Happy DRAGS-giving!
DESCRIPTION:The QUEENS are back!!!!!!\n\nLabrys Society (a local non-profit organization)\n\nis delighted to present a 3rd-anniversary show\n\nthat Grants Pass won't forget!\n\n\n\nDiva Disaster will be your hostess for the evening -- starring:\n\n RiRi Calentaye\, Maleina B-Itchcock\, Sunshine Ray MacPherson\,\n\nDaphne Storm\, Karress Ann Slaughter\, Summer Lynne Seasons\,\n\nAnd introducing...... Mae B Tonight!\n\n \n\nThis show is going to over the TOP amazing!\n\nA first-rate Saturday night show and all\n\nto raise $$$ & non-perishable food donations\n\nfor the Josephine County Food Bank!\n\n\n\n \n\n\n\nWe have Queens from all over coming to our fair city to\n\ngrace us with their presence!\n\nThis is a Saturday night event you will NOT want to miss!\n\n\n\n \n\n\n\nHead over to The Vault nightclub\n\n(515 Rogue River Hwy\, behind Herb's LaCasita)\n\nFirst come first served... it's been standing-room-only before\,\n\nso you know it will happen again since this is a\n\nSATURDAY NIGHT SHOW... doors open at 7:00 pm! \n\n$10 at the door or $5 with 3 cans/non-perishable food items.\n\nAnd don't forget your $1 bills to tip the entertainers! :)\n\n-- See you There!\n\n\n\nThe Vault @ Chris' Shenanigans \n\n515 Rogue River Hwy\, Grants Pass OR\n\nCover $10.00 at the door (or $5 with 3 non-perishable food items)\n\nDJ Jes from Sights and Sounds will be spinning for the event!
X-ALT-DESC;FMTTYPE=text/html:<strong><span style="background-color:rgb(255\, 255\, 255)\; color:rgb(75\, 79\, 86)\; font-family:helvetica\,arial\,sans-serif">The QUEENS are back!!!!!!<br />\nLabrys Society (a local non-profit organization)<br />\nis delighted to present a 3rd-anniversary show<br />\nthat Grants Pass won&#39\;t forget!</span><br />\n<br />\nDiva Disaster will be your hostess for the evening -- starring:<br />\n&nbsp\;<span style="color:rgb(75\, 79\, 86)\; font-family:helvetica\,arial\,sans-serif">RiRi Calentaye\, Maleina </span></strong><strong><span style="color:rgb(75\, 79\, 86)\; font-family:helvetica\,arial\,sans-serif">B-</span></strong><span style="color:rgb(75\, 79\, 86)\; font-family:helvetica\,arial\,sans-serif"><strong>Itchcock</strong></span><span style="color:rgb(75\, 79\, 86)\; font-family:helvetica\,arial\,sans-serif"><strong>\, Sunshine Ray MacPherson\,<br />\nDaphne Storm\, Karress Ann Slaughter\, Summer Lynne Seasons\,<br />\nAnd introducing...... Mae B Tonight!</strong></span><br />\n&nbsp\;\n<div>\n<div><strong><span style="font-family:inherit">This show is going to over the TOP amazing!<br />\nA first-rate Saturday night show an</span></strong><strong><span style="font-family:inherit">d all<br />\n<u>to raise $$$ &amp\; non-perishable food donations<br />\nfor the Josephine County Food Bank!</u></span></strong></div>\n</div>\n\n<div>\n<div>&nbsp\;</div>\n</div>\n\n<div>\n<div><strong><span style="font-family:inherit">We have Queens from all over coming to our fair city to<br />\ngrace us with their presence!<br />\nThis is a Saturday night event you will NOT want to miss!</span></strong></div>\n</div>\n\n<div>\n<div>&nbsp\;</div>\n</div>\n\n<div>\n<div><strong><span style="font-family:inherit">Head over to The </span><span style="background-color:rgb(220\, 230\, 248)\; font-family:inherit"><span style="font-family:inherit"><span style="font-family:inherit">Vault</span></span></span><span style="font-family:inherit"> nightclub<br />\n(515 Rogue River Hwy\, behind Herb&#39\;s LaCasita)<br />\nFirst come first served... it&#39\;s been standing-room-only before\,<br />\nso you know it will happen again since this is a<br />\nSATURDAY NIGHT SHOW... doors open at 7:00 pm!&nbsp\;</span></strong><br />\n<strong><span style="font-family:inherit">$10 at the door or $5 with 3 cans/non-perishable food items.<br />\nAnd don&#39\;t forget your $1 bills to tip the entertainers! :)<br />\n-- See you There!</span></strong></div>\n</div>\n<br />\n<strong><span style="background-color:rgb(255\, 255\, 255)\; color:rgb(75\, 79\, 86)\; font-family:helvetica\,arial\,sans-serif">The Vault @ Chris&#39\; Shenanigans&nbsp\;</span><br />\n<span style="background-color:rgb(255\, 255\, 255)\; color:rgb(75\, 79\, 86)\; font-family:helvetica\,arial\,sans-serif">515 Rogue River Hwy\, Grants Pass OR</span><br />\n<span style="background-color:rgb(255\, 255\, 255)\; color:rgb(75\, 79\, 86)\; font-family:helvetica\,arial\,sans-serif">Cover $10.00 at the door (or $5 with 3 non-perishable food items)</span><br />\n<span style="background-color:rgb(255\, 255\, 255)\; color:rgb(75\, 79\, 86)\; font-family:helvetica\,arial\,sans-serif">DJ Jes from Sights and Sounds will be spinning for the event!</span></strong>
LOCATION:The Vault (nightclub) @ Chris' Shenanigans 515 Rogue River Highway Grants Pass\, OR 97527
UID:e.1818.24750
SEQUENCE:3
DTSTAMP:20260424T182246Z
URL:https://business.grantspasschamber.org/events/details/labrys-society-presents-get-stuffed-it-s-a-happy-drags-giving-24750
END:VEVENT

END:VCALENDAR
