BEGIN:VCALENDAR
VERSION:2.0
PRODID:-//ChamberMaster//Event Calendar 2.0//EN
METHOD:PUBLISH
X-PUBLISHED-TTL:P3D
REFRESH-INTERVAL:P3D
CALSCALE:GREGORIAN
BEGIN:VEVENT
DTSTART;VALUE=DATE:20171215
DTEND;VALUE=DATE:20171217
TRANSP:TRANSPARENT
X-MICROSOFT-CDO-ALLDAYEVENT:TRUE
SUMMARY:Last Chance Christmas Market ~ 2017
DESCRIPTION:The Last Chance Christmas Market is a wonderful place to enjoy a taste of the holiday spirit while picking out some special handmade gifts to round out your list!\n\n\n\nAll handmade arts and crafts will be sold by the makers. Come enjoy the holidays with music\, food and handmade goods!
X-ALT-DESC;FMTTYPE=text/html:<strong>The Last Chance Christmas Market is a wonderful place to enjoy a taste of the holiday spirit while picking out some special handmade gifts to round out your list!<br />\n<br />\nAll handmade arts and crafts will be sold by the makers. Come enjoy the holidays with music\, food and handmade goods!</strong>
LOCATION:Josephine County Fairgrounds\, in the pavilion building
UID:e.1818.24772
SEQUENCE:3
DTSTAMP:20260424T163641Z
URL:https://business.grantspasschamber.org/events/details/last-chance-christmas-market-2017-24772
END:VEVENT

END:VCALENDAR
