BEGIN:VCALENDAR
VERSION:2.0
PRODID:-//ChamberMaster//Event Calendar 2.0//EN
METHOD:PUBLISH
X-PUBLISHED-TTL:P3D
REFRESH-INTERVAL:P3D
CALSCALE:GREGORIAN
BEGIN:VEVENT
DTSTART:20250530T210000Z
DTEND:20250530T230000Z
X-MICROSOFT-CDO-ALLDAYEVENT:FALSE
SUMMARY:Lead Generation Decoded: Unlocking Growth for Your Business
DESCRIPTION:Is your business generating enough leads to meet your revenue requirements? Do you have an organized\, and automated way to capture leads? If not\, then join us for a workshop on generating leads for your business.\n\n\n\nUsing marketing techniques centuries old\, and tools of today\, you can generate leads\, track them\, and monitor your success cost effectively. Leads are the lifeblood of every business\, profit or otherwise. You can even integrate traditional media with digital methods for a highly effective lead generation process. You will also learn highly effective long term customer or client sustainment processes as well.\n\n\n\nThis workshop is presented by SCORE Volunteer\, Richard Geasey. Richard has been involved in technology marketing for over 40 years. He has worked for large equipment manufacturers such as Western Digital and Seagate Technologies. Transitioning to helping small businesses\, he worked for the Australian Trade Commission here in Seattle. He assisted small businesses in Australia penetrate Northwest technology markets and helped US companies import Australian products. After working for the Australians\, he developed his skills with SEO\, lead generation\, and web development. Richard is an adjunct professor at the University of Washington (Bothell) business school and was also a Captain in the US Army.
X-ALT-DESC;FMTTYPE=text/html:<span style="font-size:20px\;"><span style="color: rgb(0\, 0\, 0)\; font-family: arial\;">Is your business generating enough leads to meet your revenue requirements? Do you have an organized\, and automated way to capture leads? If not\, then join us for a workshop on generating leads for your business.<br />\n<br />\nUsing marketing techniques centuries old\, and tools of today\, you can generate leads\, track them\, and monitor your success cost effectively. Leads are the lifeblood of every business\, profit or otherwise. You can even integrate traditional media with digital methods for a highly effective lead generation process. You will also learn highly effective long term customer or client sustainment processes as well.<br />\n<br />\nThis workshop is presented by SCORE Volunteer\, Richard Geasey. Richard has been involved in technology marketing for over 40 years. He has worked for large equipment manufacturers such as Western Digital and Seagate Technologies. Transitioning to helping small businesses\, he worked for the Australian Trade Commission here in Seattle. He assisted small businesses in Australia penetrate Northwest technology markets and helped US companies import Australian products. After working for the Australians\, he developed his skills with SEO\, lead generation\, and web development. Richard is an adjunct professor at the University of Washington (Bothell) business school and was also a Captain in the US Army.</span></span>
LOCATION:Workshop Link
UID:e.1818.54653
SEQUENCE:3
DTSTAMP:20260419T114712Z
URL:https://business.grantspasschamber.org/events/details/lead-generation-decoded-unlocking-growth-for-your-business-54653
END:VEVENT

END:VCALENDAR
