BEGIN:VCALENDAR
VERSION:2.0
PRODID:-//ChamberMaster//Event Calendar 2.0//EN
METHOD:PUBLISH
X-PUBLISHED-TTL:P3D
REFRESH-INTERVAL:P3D
CALSCALE:GREGORIAN
BEGIN:VEVENT
DTSTART:20160506T150000Z
DTEND:20160506T230000Z
X-MICROSOFT-CDO-ALLDAYEVENT:FALSE
SUMMARY:Leadercast 2016
DESCRIPTION:Visionary leaders have the ability to see a preferred future\, operate in the present\, and utilize the resources around them to architect a clear path to a new destination. They work tirelessly to empower those around them to bring a vision to life. Architects of Tomorrow imagine a future that is rich and full of hope. A future where problems are solved\, questions are answered\, confusion gives way to clarity. In its simplest form\, leadership is casting a compelling vision and mobilizing those around you to help you fulfill that vision. That is the role of Vision Architects? they design the path\, they clarify the direction\, and they lead their team toward that preferred future with little deviation. Today is better because of the visionary leaders of yesterday\, and the future will be brighter because of the Architects of Tomorrow. 2016 Speakers include: ? Andy Stanley\, Leadership Author and Communicator ? Dr. Henry Cloud\, Acclaimed Leadership Expert\, Clinical Psychologist\, and Best-Selling Author ? Nick Saban\, Head Football Coach at The University of Alabama ? Steve Wozniak\, Co-founder of Apple Inc. ? Kat Cole\, Group President at FOCUS Brands (Auntie Anne's\, Cinnabon\, and more) ? James Brown\, Network Broadcaster\, CBS Sports and News ? CMDR Rorke Denver\, Navy SEAL Commander and Author ? Chris Barez-Brown\, Author and Creativity Guru
X-ALT-DESC;FMTTYPE=text/html:Visionary leaders have the ability to see a preferred future\, operate in the present\, and utilize the resources around them to architect a clear path to a new destination. They work tirelessly to empower those around them to bring a vision to life. Architects of Tomorrow imagine a future that is rich and full of hope. A future where problems are solved\, questions are answered\, confusion gives way to clarity. In its simplest form\, leadership is casting a compelling vision and mobilizing those around you to help you fulfill that vision. That is the role of Vision Architects? they design the path\, they clarify the direction\, and they lead their team toward that preferred future with little deviation. Today is better because of the visionary leaders of yesterday\, and the future will be brighter because of the Architects of Tomorrow. 2016 Speakers include: ? Andy Stanley\, Leadership Author and Communicator ? Dr. Henry Cloud\, Acclaimed Leadership Expert\, Clinical Psychologist\, and Best-Selling Author ? Nick Saban\, Head Football Coach at The University of Alabama ? Steve Wozniak\, Co-founder of Apple Inc. ? Kat Cole\, Group President at FOCUS Brands (Auntie Anne&#39\;s\, Cinnabon\, and more) ? James Brown\, Network Broadcaster\, CBS Sports and News ? CMDR Rorke Denver\, Navy SEAL Commander and Author ? Chris Barez-Brown\, Author and Creativity Guru
LOCATION:Oregon Tech\, 3201 Campus Drive\, Klamath Falls\, OR 97601
UID:e.1818.17212
SEQUENCE:3
DTSTAMP:20260426T000406Z
URL:https://business.grantspasschamber.org/events/details/leadercast-2016-05-06-2016-17212
END:VEVENT

END:VCALENDAR
