BEGIN:VCALENDAR
VERSION:2.0
PRODID:-//ChamberMaster//Event Calendar 2.0//EN
METHOD:PUBLISH
X-PUBLISHED-TTL:P3D
REFRESH-INTERVAL:P3D
CALSCALE:GREGORIAN
BEGIN:VEVENT
DTSTART;VALUE=DATE:20160213
DTEND;VALUE=DATE:20160214
TRANSP:TRANSPARENT
X-MICROSOFT-CDO-ALLDAYEVENT:TRUE
SUMMARY:Lincoln Day Dinner\, 2016
DESCRIPTION:Keynote Speaker:\n\nJoseph Farah\, Founder\, editor-in-Chief\, and CEO\n\nof World Net Daily\n\n\n\nDinner & Fun Fund-raising Auction.  Social Hour - 5:30pm (no host bar)\n\nRSVP by February 8th
X-ALT-DESC;FMTTYPE=text/html:<strong><span style="font-size:16px\;"><u>Keynote Speaker</u>:<br />\nJoseph Farah\, Founder</span>\, editor-in-Chief\, and CEO<br />\nof World Net Daily</strong><br />\n<br />\nDinner &amp\; Fun Fund-raising Auction.&nbsp\; Social Hour - 5:30pm (no host bar)<br />\nRSVP by February 8th
LOCATION:Josephine County Fairgrounds Pavilion Building 1451 Fairground Rd Grants Pass
UID:e.1818.14422
SEQUENCE:3
DTSTAMP:20260426T043640Z
URL:https://business.grantspasschamber.org/events/details/lincoln-day-dinner-2016-14422
END:VEVENT

END:VCALENDAR
