BEGIN:VCALENDAR
VERSION:2.0
PRODID:-//ChamberMaster//Event Calendar 2.0//EN
METHOD:PUBLISH
X-PUBLISHED-TTL:P3D
REFRESH-INTERVAL:P3D
CALSCALE:GREGORIAN
BEGIN:VEVENT
DTSTART;VALUE=DATE:20160924
DTEND;VALUE=DATE:20160925
TRANSP:TRANSPARENT
X-MICROSOFT-CDO-ALLDAYEVENT:TRUE
SUMMARY:Lions Miss Southern Oregon Pageant
DESCRIPTION:Seeking Young Ladies Ages 16- 22 years old\n\nTop prize $1\,000 College Scholarship
X-ALT-DESC;FMTTYPE=text/html:<strong>Seeking Young Ladies Ages 16- 22 years old<br />\nTop prize $1\,000 College Scholarship</strong>
LOCATION:Grants Pass Performing Arts Center
UID:e.1818.17562
SEQUENCE:3
DTSTAMP:20260425T181844Z
URL:https://business.grantspasschamber.org/events/details/lions-miss-southern-oregon-pageant-09-24-2016-17562
END:VEVENT

END:VCALENDAR
