BEGIN:VCALENDAR
VERSION:2.0
PRODID:-//ChamberMaster//Event Calendar 2.0//EN
METHOD:PUBLISH
X-PUBLISHED-TTL:P3D
REFRESH-INTERVAL:P3D
CALSCALE:GREGORIAN
BEGIN:VEVENT
DTSTART:20160925T020000Z
DTEND:20160925T050000Z
X-MICROSOFT-CDO-ALLDAYEVENT:FALSE
SUMMARY:Lions Miss Southern Oregon Pageant
DESCRIPTION:Scholarship Program for Young ladies 16-22 years of age\, competing for Top prize $1\, 000. Scholarship.\n\n\n\nThis is a leadership program to help young ladies obtain their scholastic dreams.
X-ALT-DESC;FMTTYPE=text/html:<strong>Scholarship Program for Young ladies 16-22 years of age\, competing for Top prize $1\, 000. Scholarship.<br />\n<br />\nThis is a leadership program to help young ladies obtain their scholastic dreams.</strong>
LOCATION:Grants Pass High School Performing Arts Center
UID:e.1818.17659
SEQUENCE:3
DTSTAMP:20260425T181844Z
URL:https://business.grantspasschamber.org/events/details/lions-miss-southern-oregon-pageant-09-24-2016-17659
END:VEVENT

END:VCALENDAR
