BEGIN:VCALENDAR
VERSION:2.0
PRODID:-//ChamberMaster//Event Calendar 2.0//EN
METHOD:PUBLISH
X-PUBLISHED-TTL:P3D
REFRESH-INTERVAL:P3D
CALSCALE:GREGORIAN
BEGIN:VEVENT
DTSTART;VALUE=DATE:20200307
DTEND;VALUE=DATE:20200308
TRANSP:TRANSPARENT
X-MICROSOFT-CDO-ALLDAYEVENT:TRUE
SUMMARY:Listener Auction ~ KAJO/KLDR
DESCRIPTION:TUNE-IN for our Listener Auction ! ! !\n\nCHECK OUT ITEMS: https://www.kajo.com/listener_auction/index.php\n\n\n\n98.3FM - 99.7FM - 1270AM\n\nGrants Pass\n\n\n\n98.1FM\n\nMedford\n\n\n\n104.5FM\n\nCave Junction\n\n\n\nBID ITEMS:    (hundred more listed on website)\n\nTraeger Pro Series 575 Grill ~ Yeti Cooler ~ Robinson Orthodontics ~ "The Bat" Batman Statuette ~ TWD - Rick Grimes Statuette ~ Crater Lake Scenic Photo Flight ~ 8" Orange and Red Hand-Blown Glass Vase ~ 2020 Coachmen Clipper Express 9.0TD ~ Art Print "The Long Green Line" by William S. Phillips ~ Ornamental Arched Gate Package ~ Chainlink Gate Package ~ 10 Cubic Yards of 3/4" Minus Crushed Quarry Rock ...................... and more
X-ALT-DESC;FMTTYPE=text/html:<br />\n<strong><em><span style="font-size:18px\;">TUNE-IN for our Listener Auction ! ! !</span></em><br />\n<span style="color:#FF0000\;">CHECK OUT ITEMS</span>: <a href="https://www.kajo.com/listener_auction/index.php">https://www.kajo.com/listener_auction/index.php</a><br />\n<br />\n98.3FM - 99.7FM - 1270AM<br />\nGrants Pass<br />\n<br />\n98.1FM<br />\nMedford<br />\n<br />\n104.5FM<br />\nCave Junction<br />\n<br />\n<span style="color:#FF0000\;"><span style="font-size:20px\;"><u>BID ITEMS:</u></span>&nbsp\;</span>&nbsp\;&nbsp\; (hundred more listed on website)<br />\nTraeger Pro Series 575 Grill ~ Yeti Cooler ~ Robinson Orthodontics ~ &quot\;The Bat&quot\; Batman Statuette ~ TWD - Rick Grimes Statuette ~ Crater Lake Scenic Photo Flight ~ 8&quot\; Orange and Red Hand-Blown Glass Vase ~ 2020 Coachmen Clipper Express 9.0TD ~ Art Print &quot\;The Long Green Line&quot\; by William S. Phillips ~ Ornamental Arched Gate Package ~ Chainlink Gate Package ~ 10 Cubic Yards of 3/4&quot\; Minus Crushed Quarry Rock ...................... and more</strong>
LOCATION:TUNE-IN for our Listener Auction Pre-Register by Calling (541) 476-6608 Check Out Items: https://www.kajo.com/listener_auction/index.php
UID:e.1818.33289
SEQUENCE:3
DTSTAMP:20260424T025752Z
URL:https://business.grantspasschamber.org/events/details/listener-auction-kajo-kldr-33289
END:VEVENT

END:VCALENDAR
