BEGIN:VCALENDAR
VERSION:2.0
PRODID:-//ChamberMaster//Event Calendar 2.0//EN
METHOD:PUBLISH
X-PUBLISHED-TTL:P3D
REFRESH-INTERVAL:P3D
CALSCALE:GREGORIAN
BEGIN:VEVENT
DTSTART:20160214T030000Z
DTEND:20160214T070000Z
X-MICROSOFT-CDO-ALLDAYEVENT:FALSE
SUMMARY:Love: Exposed at ScienceWorks
DESCRIPTION:Love. Lust. Attraction. Intimacy. Mysterious as they seem\, they all come down to chemistry. This Valentines\, join ScienceWorks and Love Revolution on February 13 from 7 to 11 pm at ScienceWorks for Love: Exposed\, an adult-focused\, interactive exploration of the astonishing science behind human relationships. From flirtation to mixed drinks to more intimate matters\, our romantic experts will tease out the secrets behind the complex chemical cocktail that is your brain on love. Whether you?re exploring with a partner or flirting with a friend\, Love: Exposed is a scientific one-night-stand that?s guaranteed to arouse your curiosity. Admission is $10 for ScienceWorks Members\, $15 for non-members. 21 and over only. Tickets and details at scienceworksmuseum.org/love
X-ALT-DESC;FMTTYPE=text/html:Love. Lust. Attraction. Intimacy. Mysterious as they seem\, they all come down to chemistry. This Valentines\, join ScienceWorks and Love Revolution on February 13 from 7 to 11 pm at ScienceWorks for Love: Exposed\, an adult-focused\, interactive exploration of the astonishing science behind human relationships. From flirtation to mixed drinks to more intimate matters\, our romantic experts will tease out the secrets behind the complex chemical cocktail that is your brain on love. Whether you?re exploring with a partner or flirting with a friend\, Love: Exposed is a scientific one-night-stand that?s guaranteed to arouse your curiosity. Admission is $10 for ScienceWorks Members\, $15 for non-members. 21 and over only. Tickets and details at scienceworksmuseum.org/love
LOCATION:ScienceWorks Hands-on Museum 1500 E. Main St. Ashland\, OR 97520
UID:e.1818.14017
SEQUENCE:3
DTSTAMP:20260426T043917Z
URL:https://business.grantspasschamber.org/events/details/love-exposed-at-scienceworks-02-13-2016-14017
END:VEVENT

END:VCALENDAR
