BEGIN:VCALENDAR
VERSION:2.0
PRODID:-//ChamberMaster//Event Calendar 2.0//EN
METHOD:PUBLISH
X-PUBLISHED-TTL:P3D
REFRESH-INTERVAL:P3D
CALSCALE:GREGORIAN
BEGIN:VEVENT
DTSTART:20160729T183000Z
DTEND:20160729T200000Z
X-MICROSOFT-CDO-ALLDAYEVENT:FALSE
SUMMARY:LUNCH WITH THE BACK TO 50'S CAR SHOW
DESCRIPTION:The American Legion Auxiliary Unit 28 presents their Back to the 50's Pre Car Show Lunch on Friday\, July 29 from 11:30 am to 1:00 pm.\n\n\n\nAfter you visit the show across the street\, or before\, come on over to the Post to enjoy the food and people\, some 50's music\, and then visit the cars again!\n\n\n\nGrants Pass Post 28 is located at 206 NW F & 5th Sts.\, across from the Growers Market parking lot.\n\n\n\nWe're serving Shredded Pork Sandwiches\, Macaroni Salad\, Baked Beans\, and Watermelon. Soft beverages will be available. Open to the Public\, $6 per person. Post Members\, $5 per person. More info? Contact the Post at 541-474-6400\, M-Sa\, 1-6 pm. Proceeds Benefit The Auxiliary Veteran Service Projects
X-ALT-DESC;FMTTYPE=text/html:<strong>The American Legion Auxiliary Unit 28 presents their Back to the 50&#39\;s Pre Car Show Lunch on Friday\, July 29 from 11:30 am to 1:00 pm.<br />\n<br />\nAfter you visit the show across the street\, or before\, come on over to the Post to enjoy the food and people\, some 50&rsquo\;s music\, and then visit the cars again!<br />\n<br />\nGrants Pass Post 28 is located at 206 NW F &amp\; 5th Sts.\, across from the Growers Market parking lot.<br />\n<br />\nWe&#39\;re serving Shredded Pork Sandwiches\, Macaroni Salad\, Baked Beans\, and Watermelon. Soft beverages will be available. Open to the Public\, $6 per person. Post Members\, $5 per person. More info? Contact the Post at 541-474-6400\, M-Sa\, 1-6 pm. Proceeds Benefit The Auxiliary Veteran Service Projects</strong>
LOCATION:206 NW F ST AMERICAN LEGION POST 28
UID:e.1818.17665
SEQUENCE:3
DTSTAMP:20260425T210353Z
URL:https://business.grantspasschamber.org/events/details/lunch-with-the-back-to-50-s-car-show-07-29-2016-17665
END:VEVENT

END:VCALENDAR
