BEGIN:VCALENDAR
VERSION:2.0
PRODID:-//ChamberMaster//Event Calendar 2.0//EN
METHOD:PUBLISH
X-PUBLISHED-TTL:P3D
REFRESH-INTERVAL:P3D
CALSCALE:GREGORIAN
BEGIN:VEVENT
DTSTART:20160525T180000Z
DTEND:20160525T203000Z
X-MICROSOFT-CDO-ALLDAYEVENT:FALSE
SUMMARY:Making Health Care Decisions - Advanced Directive Education Class
DESCRIPTION:Lovejoy Hospice will be holding an Advanced Directive Education Class for the community. Please join us for this sack lunch class where instruction and guidance will be provided on completing an Oregon Advance Directive Form.\n\n\n\nHeld in Conference Room 1 Refreshments & Advance Directive Forms will be provided. Space is limited\, please call 541-474-1193 to register.
X-ALT-DESC;FMTTYPE=text/html:<strong>Lovejoy Hospice will be holding an Advanced Directive Education Class for the community. Please join us for this sack lunch class where instruction and guidance will be provided on completing an Oregon Advance Directive Form.<br />\n<br />\nHeld in Conference Room 1 Refreshments &amp\; Advance Directive Forms will be provided. Space is limited\, please call 541-474-1193 to register.</strong>
LOCATION:Lovejoy Hospice\, 939 SE 6th St\, Grants Pass\, OR 97526
UID:e.1818.17478
SEQUENCE:3
DTSTAMP:20260426T000034Z
URL:https://business.grantspasschamber.org/events/details/making-health-care-decisions-advanced-directive-education-class-05-25-2016-17478
END:VEVENT

END:VCALENDAR
