BEGIN:VCALENDAR
VERSION:2.0
PRODID:-//ChamberMaster//Event Calendar 2.0//EN
METHOD:PUBLISH
X-PUBLISHED-TTL:P3D
REFRESH-INTERVAL:P3D
CALSCALE:GREGORIAN
BEGIN:VEVENT
DTSTART:20161022T013000Z
DTEND:20161022T030000Z
X-MICROSOFT-CDO-ALLDAYEVENT:FALSE
SUMMARY:Marine Conservation Night
DESCRIPTION:Art and science meet in our endangered oceans. Is marine life extinction the price we pay for coastal development and ocean pollution?\n\n\n\nSee the documentary "A Fragile Legacy" and witness a global treasure hunt for rare marine invertebrates inspired by late 19th century glassblowing art. A discussion of southern Oregon marine conservation will follow.
X-ALT-DESC;FMTTYPE=text/html:<strong>Art and science meet in our endangered oceans. Is marine life extinction the price we pay for coastal development and ocean pollution?<br />\n<br />\nSee the documentary &quot\;A Fragile Legacy&quot\; and witness a global treasure hunt for rare marine invertebrates inspired by late 19th century glassblowing art. A discussion of southern Oregon marine conservation will follow.</strong>
LOCATION:Grants Pass Museum of Art
UID:e.1818.17865
SEQUENCE:3
DTSTAMP:20260425T162724Z
URL:https://business.grantspasschamber.org/events/details/marine-conservation-night-17865
END:VEVENT

END:VCALENDAR
