BEGIN:VCALENDAR
VERSION:2.0
PRODID:-//ChamberMaster//Event Calendar 2.0//EN
METHOD:PUBLISH
X-PUBLISHED-TTL:P3D
REFRESH-INTERVAL:P3D
CALSCALE:GREGORIAN
BEGIN:VEVENT
DTSTART:20230318T023000Z
DTEND:20230318T040000Z
X-MICROSOFT-CDO-ALLDAYEVENT:FALSE
SUMMARY:Master of Music Recital featuring: Isaiah Spratt\, piano
DESCRIPTION:Isaiah Spratt will perform his first Graduate piano recital on March 17\, 2023 at 7:30pm at the SOU Music Recital Hall.\n\n\n\nIsaiah Spratt began playing music at the age of eight. He played multiple wind instruments\, took piano lessons\, and sang in various choirs throughout grade school. He holds degrees in Music from Columbia Community College (2012) and Southern Oregon University (2020). Isaiah has performed with the Symphony of the Sierras\, Columbia College Big Band\, Columbia College Community Choir\, SOU Concert Choir\, SOU Chamber Choir\, and the Southern Oregon Repertory Singers.\n\n\n\nMr. Spratt was a winner of the 2019 Brookings Harbor Friends of Music Competition. He is a current member of the SOU Chamber Choir\, and the SOU Jazz Band. Some of his noted teachers are Mic Harper\, John Carter\, John Kraus\, Paul French\, Ellen Holt-Murray\, and currently Dr. Alexander Tutunov. Free and open to the public. Livestream link: https://youtu.be/y8Jm5yNdzDI
X-ALT-DESC;FMTTYPE=text/html:<span style="font-size:20px\;">Isaiah Spratt will perform his first Graduate piano recital on March 17\, 2023 at 7:30pm at the SOU Music Recital Hall.<br />\n<br />\nIsaiah Spratt began playing music at the age of eight. He played multiple wind instruments\, took piano lessons\, and sang in various choirs throughout grade school. He holds degrees in Music from Columbia Community College (2012) and Southern Oregon University (2020). Isaiah has performed with the Symphony of the Sierras\, Columbia College Big Band\, Columbia College Community Choir\, SOU Concert Choir\, SOU Chamber Choir\, and the Southern Oregon Repertory Singers.<br />\n<br />\nMr. Spratt was a winner of the 2019 Brookings Harbor Friends of Music Competition. He is a current member of the SOU Chamber Choir\, and the SOU Jazz Band. Some of his noted teachers are Mic Harper\, John Carter\, John Kraus\, Paul French\, Ellen Holt-Murray\, and currently Dr. Alexander Tutunov. Free and open to the public. Livestream link:&nbsp\;<a href="https://youtu.be/y8Jm5yNdzDI">https://youtu.be/y8Jm5yNdzDI</a></span>
LOCATION:SOU Music Recital Hall 491 S. Mountain Avenue
UID:e.1818.42341
SEQUENCE:3
DTSTAMP:20260422T121552Z
URL:https://business.grantspasschamber.org/events/details/master-of-music-recital-featuring-isaiah-spratt-piano-42341
END:VEVENT

END:VCALENDAR
