BEGIN:VCALENDAR
VERSION:2.0
PRODID:-//ChamberMaster//Event Calendar 2.0//EN
METHOD:PUBLISH
X-PUBLISHED-TTL:P3D
REFRESH-INTERVAL:P3D
CALSCALE:GREGORIAN
BEGIN:VEVENT
DTSTART:20160310T013000Z
DTEND:20160310T040000Z
X-MICROSOFT-CDO-ALLDAYEVENT:FALSE
SUMMARY:Master Recycler Class
DESCRIPTION:Apply online by March 5th at www.jocomasterrecycler.org. Runs from March 9th to May 4th.
X-ALT-DESC;FMTTYPE=text/html:Apply online by March 5th at www.jocomasterrecycler.org. Runs from March 9th to May 4th.
LOCATION:Rogue Community College 3345 Redwood Highway RWC-I4\, Grants Pass
UID:e.1818.15790
SEQUENCE:3
DTSTAMP:20260426T030333Z
URL:https://business.grantspasschamber.org/events/details/master-recycler-class-03-09-2016-15790
END:VEVENT

END:VCALENDAR
