BEGIN:VCALENDAR
VERSION:2.0
PRODID:-//ChamberMaster//Event Calendar 2.0//EN
METHOD:PUBLISH
X-PUBLISHED-TTL:P3D
REFRESH-INTERVAL:P3D
CALSCALE:GREGORIAN
BEGIN:VEVENT
DTSTART:20160424T220000Z
DTEND:20160425T000000Z
X-MICROSOFT-CDO-ALLDAYEVENT:FALSE
SUMMARY:Masterworks Concert ~ Rogue Valley Symphony
DESCRIPTION:Conductor Martin Majkut leads the orchestra in its season finale concert featuring world renowned pianist Alexander Schimpf in Brahms' Piano Concerto No. 2. Also on the program Mendelssohn's "The Hebrides" and Debussy's "La Mer."
X-ALT-DESC;FMTTYPE=text/html:<strong>Conductor Martin Majkut leads the orchestra in its season finale concert featuring world renowned pianist Alexander Schimpf in Brahms&#39\; Piano Concerto No. 2. Also on the program Mendelssohn&#39\;s &quot\;The Hebrides&quot\; and Debussy&#39\;s &quot\;La Mer.&quot\;</strong>
LOCATION:Grants Pass High School Performing Arts Center
UID:e.1818.16866
SEQUENCE:3
DTSTAMP:20260426T013437Z
URL:https://business.grantspasschamber.org/events/details/masterworks-concert-rogue-valley-symphony-04-24-2016-16866
END:VEVENT

END:VCALENDAR
