BEGIN:VCALENDAR
VERSION:2.0
PRODID:-//ChamberMaster//Event Calendar 2.0//EN
METHOD:PUBLISH
X-PUBLISHED-TTL:P3D
REFRESH-INTERVAL:P3D
CALSCALE:GREGORIAN
BEGIN:VEVENT
DTSTART:20160816T000000Z
DTEND:20160816T020000Z
X-MICROSOFT-CDO-ALLDAYEVENT:FALSE
SUMMARY:MEALS USING ROTISSERIE CHICKEN
DESCRIPTION:Join us as we learn a few new tricks on using up that rotisserie chicken. Participants will enjoy these easy\, economical and healthy meals that the whole family will enjoy. FREE COOKING CLASS!\n\n\n\nClass includes recipes as well as samples of each item prepared. Classes will be held in the Demonstration Kitchen on the 4th Floor of the Asante Center for Outpatient Health located at 537 SW Union Avenue in Grants Pass.\n\n\n\nSpace is limited\, reservations are required. Please call and reserve your seat at 541-471-4208.
X-ALT-DESC;FMTTYPE=text/html:<strong>Join us as we learn a few new tricks on using up that rotisserie chicken. Participants will enjoy these easy\, economical and healthy meals that the whole family will enjoy. FREE COOKING CLASS!<br />\n<br />\nClass includes recipes as well as samples of each item prepared. Classes will be held in the Demonstration Kitchen on the 4th Floor of the Asante Center for Outpatient Health located at 537 SW Union Avenue in Grants Pass.<br />\n<br />\nSpace is limited\, reservations are required. Please call and reserve your seat at 541-471-42</strong>08.
LOCATION:Asante Center for Outpatient Health 537 SW Union Ave Grants Pass\, OR 97527 Demonstration Kitchen\, Fourth Floor Straight ahead off the elevator
UID:e.1818.17630
SEQUENCE:3
DTSTAMP:20260425T192233Z
URL:https://business.grantspasschamber.org/events/details/meals-using-rotisserie-chicken-08-15-2016-17630
END:VEVENT

END:VCALENDAR
