BEGIN:VCALENDAR
VERSION:2.0
PRODID:-//ChamberMaster//Event Calendar 2.0//EN
METHOD:PUBLISH
X-PUBLISHED-TTL:P3D
REFRESH-INTERVAL:P3D
CALSCALE:GREGORIAN
BEGIN:VEVENT
DTSTART:20161001T200000Z
DTEND:20161001T213000Z
X-MICROSOFT-CDO-ALLDAYEVENT:FALSE
SUMMARY:Medicare 101
DESCRIPTION:We will discuss changes for 2017\, as well as Timelines\, what are your choices-especially if you're new to Medicare\, and/or Dual-Eligible.\n\n\n\nThis is not a sales meeting. Will also discuss Prescription plan changes.
X-ALT-DESC;FMTTYPE=text/html:<strong>We will discuss changes for 2017\, as well as Timelines\, what are your choices-especially if you&#39\;re new to Medicare\, and/or Dual-Eligible.<br />\n<br />\nThis is not a sales meeting. Will also discuss Prescription plan changes.</strong>
LOCATION:Josephine Community Library
UID:e.1818.17827
SEQUENCE:3
DTSTAMP:20260425T162755Z
URL:https://business.grantspasschamber.org/events/details/medicare-101-17827
END:VEVENT

END:VCALENDAR
