BEGIN:VCALENDAR
VERSION:2.0
PRODID:-//ChamberMaster//Event Calendar 2.0//EN
METHOD:PUBLISH
X-PUBLISHED-TTL:P3D
REFRESH-INTERVAL:P3D
CALSCALE:GREGORIAN
BEGIN:VEVENT
DTSTART:20160721T210000Z
DTEND:20160721T223000Z
X-MICROSOFT-CDO-ALLDAYEVENT:FALSE
SUMMARY:Medicare 101 Seminar
DESCRIPTION:Not sure when you can change plans or WHAT you can change? Does keeping employer coverage in retirement make sense?\n\n\n\nWhat changes for 2017 is Medicare making?\n\n\n\nJoin us for a discussion\, questions and overview of Medicare coverage. Joint plans with Medicaid will also be included. This is not a sales meeting.
X-ALT-DESC;FMTTYPE=text/html:<strong>Not sure when you can change plans or WHAT you can change? Does keeping employer coverage in retirement make sense?<br />\n<br />\nWhat changes for 2017 is Medicare making?<br />\n<br />\nJoin us for a discussion\, questions and overview of Medicare coverage. Joint plans with Medicaid will also be included. This is not a sales meeting.</strong>
LOCATION:Brookdale at the Springs 1357 Redwood Circle Independent Living Bldg.
UID:e.1818.17657
SEQUENCE:3
DTSTAMP:20260425T210107Z
URL:https://business.grantspasschamber.org/events/details/medicare-101-seminar-07-21-2016-17657
END:VEVENT

END:VCALENDAR
