BEGIN:VCALENDAR
VERSION:2.0
PRODID:-//ChamberMaster//Event Calendar 2.0//EN
METHOD:PUBLISH
X-PUBLISHED-TTL:P3D
REFRESH-INTERVAL:P3D
CALSCALE:GREGORIAN
BEGIN:VEVENT
DTSTART:20160701T003000Z
DTEND:20160701T013000Z
X-MICROSOFT-CDO-ALLDAYEVENT:FALSE
SUMMARY:Medicare 101 Workshop
DESCRIPTION:NEWS RELEASE June 13\, 2016 Contact: Linda Clarkson Futurity First Insurance Group 541-973-2122 Medicare Made Easy at June 30 Workshop in Grants Pass Linda Clarkson and Sharon Alvis of Futurity First are presenting an educational workshop on Medicare 101.\n\n\n\nThe hour-long workshop is set for Thursday\, June 30 at 5:30 p.m. at Club Northwest\, 2160 NW Vine St.\, Grants Pass. The workshop will explain Medicare Parts A and B\, and explore options with Medicare Advantage Plans and Medicare Supplements. Participants will also learn how prescription drug plans work\, how to get help with the cost of prescription drugs and how Medicare works with the VA. The workshop is available at no charge. To register\, call Futurity First at 541-973-2100\, Ext. 1.
X-ALT-DESC;FMTTYPE=text/html:NEWS RELEASE June 13\, 2016 Contact: Linda Clarkson Futurity First Insurance Group 541-973-2122 Medicare Made Easy at June 30 Workshop in Grants Pass Linda Clarkson and Sharon Alvis of Futurity First are presenting an educational workshop on Medicare 101.<br />\n<br />\nThe hour-long workshop is set for Thursday\, June 30 at 5:30 p.m. at Club Northwest\, 2160 NW Vine St.\, Grants Pass. The workshop will explain Medicare Parts A and B\, and explore options with Medicare Advantage Plans and Medicare Supplements. Participants will also learn how prescription drug plans work\, how to get help with the cost of prescription drugs and how Medicare works with the VA. The workshop is available at no charge. To register\, call Futurity First at 541-973-2100\, Ext. 1.
LOCATION:Club Northwest\, 2160 NW Vine St\, Grants Pass\, OR
UID:e.1818.17596
SEQUENCE:3
DTSTAMP:20260425T223458Z
URL:https://business.grantspasschamber.org/events/details/medicare-101-workshop-06-30-2016-17596
END:VEVENT

END:VCALENDAR
