BEGIN:VCALENDAR
VERSION:2.0
PRODID:-//ChamberMaster//Event Calendar 2.0//EN
METHOD:PUBLISH
X-PUBLISHED-TTL:P3D
REFRESH-INTERVAL:P3D
CALSCALE:GREGORIAN
BEGIN:VEVENT
DTSTART:20171216T180000Z
DTEND:20171218T010000Z
X-MICROSOFT-CDO-ALLDAYEVENT:FALSE
SUMMARY:Santa ~ Grants Pass Shopping Center
DESCRIPTION:Meet Santa at Grants Pass Shopping Center\n\n\n\nCome See Us For All Your Holiday Shopping ! !\n\n\n\nDecember 3rd\, 10th & 17th\n\n10am - 1pm\n\n2pm - 5pm\n\n\n\n\n\nFamily Group Photo:  $5\n\n(Photo with your own calendar)\n\nPhoto's printed by Santa on-site $2 Extra
X-ALT-DESC;FMTTYPE=text/html:<strong><u>Meet Santa at Grants Pass Shopping Center</u><br />\n<br />\nCome See Us For All Your Holiday Shopping ! !<br />\n<br />\n<u>December 3rd\, 10th &amp\; 17th</u><br />\n10am - 1pm<br />\n2pm - 5pm<br />\n<br />\n<br />\nFamily Group Photo:&nbsp\; $5<br />\n(Photo with your own calendar)<br />\nPhoto&#39\;s printed by Santa on-site $2 Extra</strong>
LOCATION:Grants Pass Shopping Center F Street & Parkway
UID:e.1818.24833
SEQUENCE:3
DTSTAMP:20260424T163931Z
URL:https://business.grantspasschamber.org/events/details/meet-santa-grants-pass-shopping-center-12-16-2017-24833
END:VEVENT

END:VCALENDAR
