BEGIN:VCALENDAR
VERSION:2.0
PRODID:-//ChamberMaster//Event Calendar 2.0//EN
METHOD:PUBLISH
X-PUBLISHED-TTL:P3D
REFRESH-INTERVAL:P3D
CALSCALE:GREGORIAN
BEGIN:VEVENT
DTSTART:20160427T190000Z
DTEND:20160427T200000Z
X-MICROSOFT-CDO-ALLDAYEVENT:FALSE
SUMMARY:Meet The Candidates
DESCRIPTION:Rogue Valley Republican Women have three candidates speaking at our next meeting who are running for Josephine County positions\; Connie Roach-Josephine Co Assessor\, Eve Arce-Josephine Co Treasurer\, and Trisha Myers-Josephine Co Clerk.
X-ALT-DESC;FMTTYPE=text/html:<strong>Rogue Valley Republican Women have three candidates speaking at our next meeting who are running for Josephine County positions\; Connie Roach-Josephine Co Assessor\, Eve Arce-Josephine Co Treasurer\, and Trisha Myers-Josephine Co Clerk.</strong>
LOCATION:Elmer's in Grants Pass
UID:e.1818.17427
SEQUENCE:3
DTSTAMP:20260426T013529Z
URL:https://business.grantspasschamber.org/events/details/meet-the-candidates-04-27-2016-17427
END:VEVENT

END:VCALENDAR
