BEGIN:VCALENDAR
VERSION:2.0
PRODID:-//ChamberMaster//Event Calendar 2.0//EN
METHOD:PUBLISH
X-PUBLISHED-TTL:P3D
REFRESH-INTERVAL:P3D
CALSCALE:GREGORIAN
BEGIN:VEVENT
DTSTART;VALUE=DATE:20160530
DTEND;VALUE=DATE:20160531
TRANSP:TRANSPARENT
X-MICROSOFT-CDO-ALLDAYEVENT:TRUE
SUMMARY:Memorial Day Observance ~ American Legion Post 50
DESCRIPTION:Memorial Day Observance with a rifle salute and decoration of veterans' graves at two Williams-area cemeteries. Put on by the Williams Valley American Legion Post 50 and will be followed by a barbecue.
X-ALT-DESC;FMTTYPE=text/html:Memorial Day Observance with a rifle salute and decoration of veterans&#39\; graves at two Williams-area cemeteries. Put on by the Williams Valley American Legion Post 50 and will be followed by a barbecue.
LOCATION:
UID:e.1818.15256
SEQUENCE:3
DTSTAMP:20260426T000716Z
URL:https://business.grantspasschamber.org/events/details/memorial-day-observance-american-legion-post-50-05-30-2016-15256
END:VEVENT

END:VCALENDAR
