BEGIN:VCALENDAR
VERSION:2.0
PRODID:-//ChamberMaster//Event Calendar 2.0//EN
METHOD:PUBLISH
X-PUBLISHED-TTL:P3D
REFRESH-INTERVAL:P3D
CALSCALE:GREGORIAN
BEGIN:VEVENT
DTSTART:20160530T180000Z
DTEND:20160530T190000Z
X-MICROSOFT-CDO-ALLDAYEVENT:FALSE
SUMMARY:Memorial Day Observance ~ Hillcrest Park
DESCRIPTION:With speakers\, music\, a gun salute\, and laying of wreaths and flowers.
X-ALT-DESC;FMTTYPE=text/html:With speakers\, music\, a gun salute\, and laying of wreaths and flowers.
LOCATION:Hillcrest Memorial Park
UID:e.1818.15255
SEQUENCE:3
DTSTAMP:20260426T000136Z
URL:https://business.grantspasschamber.org/events/details/memorial-day-observance-hillcrest-park-05-30-2016-15255
END:VEVENT

END:VCALENDAR
