BEGIN:VCALENDAR
VERSION:2.0
PRODID:-//ChamberMaster//Event Calendar 2.0//EN
METHOD:PUBLISH
X-PUBLISHED-TTL:P3D
REFRESH-INTERVAL:P3D
CALSCALE:GREGORIAN
BEGIN:VEVENT
DTSTART;VALUE=DATE:20161116
DTEND;VALUE=DATE:20161117
TRANSP:TRANSPARENT
X-MICROSOFT-CDO-ALLDAYEVENT:TRUE
SUMMARY:Mental Health First Aid Training
DESCRIPTION:An 8 hour training course that teaches you how to help someone who is developing a mental health problem or experiencing a mental health crisis.
X-ALT-DESC;FMTTYPE=text/html:<strong>An 8 hour training course that teaches you how to help someone who is developing a mental health problem or experiencing a mental health crisis.</strong>
LOCATION:Options for Southern Oregon 1215 SW "G' Street Grants Pass\, OR 97526
UID:e.1818.17883
SEQUENCE:3
DTSTAMP:20260425T143235Z
URL:https://business.grantspasschamber.org/events/details/mental-health-first-aid-training-17883
END:VEVENT

END:VCALENDAR
