BEGIN:VCALENDAR
VERSION:2.0
PRODID:-//ChamberMaster//Event Calendar 2.0//EN
METHOD:PUBLISH
X-PUBLISHED-TTL:P3D
REFRESH-INTERVAL:P3D
CALSCALE:GREGORIAN
BEGIN:VEVENT
DTSTART:20160819T020000Z
DTEND:20160819T050000Z
X-MICROSOFT-CDO-ALLDAYEVENT:FALSE
SUMMARY:Midway Stage Entertainment ~ BATTLE OF THE BANDS
DESCRIPTION:BATTLE OF THE BANDS\n\n \n\nThe Josephine County Fair will host a Battle of the Bands competition on the Wednesday\, August 18th at 7:00pm on the Wheeler Toyota Stage.
X-ALT-DESC;FMTTYPE=text/html:<strong><span style="font-family:times new roman\,serif\;"><span style="font-size:18.0pt\;">BATTLE OF THE BANDS</span></span></strong><br />\n&nbsp\;<br />\n<span style="font-family:times new roman\,serif\;"><span style="font-size:12.0pt\;"><strong>The Josephine County Fair will host a Battle of the Bands competition on the Wednesday\, August 18th at 7:00pm on the Wheeler Toyota Stage. </strong></span></span><br />\n<br />\n&nbsp\;
LOCATION:Josephine County Fairgrounds 1451 Fairgrounds Rd Midway Stage Entertainment
UID:e.1818.17735
SEQUENCE:3
DTSTAMP:20260425T192800Z
URL:https://business.grantspasschamber.org/events/details/midway-stage-entertainment-battle-of-the-bands-08-18-2016-17735
END:VEVENT

END:VCALENDAR
