BEGIN:VCALENDAR
VERSION:2.0
PRODID:-//ChamberMaster//Event Calendar 2.0//EN
METHOD:PUBLISH
X-PUBLISHED-TTL:P3D
REFRESH-INTERVAL:P3D
CALSCALE:GREGORIAN
BEGIN:VEVENT
DTSTART;VALUE=DATE:20160819
DTEND;VALUE=DATE:20160820
TRANSP:TRANSPARENT
X-MICROSOFT-CDO-ALLDAYEVENT:TRUE
SUMMARY:Midway Stage Entertainment ~ PHAMOUS PHACES
DESCRIPTION:Phamous Phaces personify High Energy Classic Rock & Power Pop.\n\n\n\nPhamous Phaces deliver powerful live performances. Incredible lead vocals and seasoned\, multi-talented musicians of this 4-piece band set them apart from the rest. \n\n\n\nThe Hype is REAL!
X-ALT-DESC;FMTTYPE=text/html:<strong><span style="font-family:times new roman\,serif\;"><span style="font-size:12.0pt\;"><u>Phamous Phaces</u> personify High Energy Classic Rock &amp\; Power Pop.<br />\n<br />\n<u>Phamous Phaces</u> deliver powerful live performances. Incredible lead vocals and seasoned\, multi-talented musicians of this 4-piece band set them apart from the rest. </span></span><br />\n<br />\n<span style="font-family:times new roman\,serif\;"><span style="font-size:12.0pt\;">The Hype is REAL!</span></span><br />\n&nbsp\;</strong>
LOCATION:Josephine County Fairgrounds 1451 Fairgrounds Rd Midway Stage Entertainment
UID:e.1818.17736
SEQUENCE:3
DTSTAMP:20260425T192233Z
URL:https://business.grantspasschamber.org/events/details/midway-stage-entertainment-phamous-phaces-08-19-2016-17736
END:VEVENT

END:VCALENDAR
