BEGIN:VCALENDAR
VERSION:2.0
PRODID:-//ChamberMaster//Event Calendar 2.0//EN
METHOD:PUBLISH
X-PUBLISHED-TTL:P3D
REFRESH-INTERVAL:P3D
CALSCALE:GREGORIAN
BEGIN:VEVENT
DTSTART;VALUE=DATE:20180602
DTEND;VALUE=DATE:20180603
TRANSP:TRANSPARENT
X-MICROSOFT-CDO-ALLDAYEVENT:TRUE
SUMMARY:Mock Ford ~ GPHS Marching Band's Drive 4ur School Test Drive Challenge
DESCRIPTION:MOCK FORD has once again offered the Grants Pass Marching Band and Guard their Drive 4ur School Test Drive Challenge to help with their "March to New York" to be a part of the 2018 Macy's Thanksgiving Day Parade! Come down to GPHS on Saturday\, June 2nd from 9 am to 6 pm to take a 10 minute test drive in a new Ford vehicle!\n\n\n\nThe band must get 300 test drives in order to be awarded $6\,000! This is a no pressure\, fun event   you just take a fun spin around the block.
X-ALT-DESC;FMTTYPE=text/html:<strong>MOCK FORD has once again offered the Grants Pass Marching Band and Guard their Drive 4ur School Test Drive Challenge to help with their &ldquo\;March to New York&rdquo\; to be a part of the 2018 Macy&rsquo\;s Thanksgiving Day Parade! Come down to GPHS on Saturday\, June 2nd from 9 am to 6 pm to take a 10 minute test drive in a new Ford vehicle!<br />\n<br />\nThe band must get 300 test drives in order to be awarded $6\,000! This is a no pressure\, fun event &ndash\; you just take a fun spin around the block.</strong>
LOCATION:GPHS Parking lot behind Mel Ingram Field
UID:e.1818.27628
SEQUENCE:3
DTSTAMP:20260424T012803Z
URL:https://business.grantspasschamber.org/events/details/mock-ford-gphs-marching-band-s-drive-4ur-school-test-drive-challenge-27628
END:VEVENT

END:VCALENDAR
