BEGIN:VCALENDAR
VERSION:2.0
PRODID:-//ChamberMaster//Event Calendar 2.0//EN
METHOD:PUBLISH
X-PUBLISHED-TTL:P3D
REFRESH-INTERVAL:P3D
CALSCALE:GREGORIAN
BEGIN:VEVENT
DTSTART:20171026T170000Z
DTEND:20171026T180000Z
X-MICROSOFT-CDO-ALLDAYEVENT:FALSE
SUMMARY:Mommy (or Daddy) & Me Yoga
DESCRIPTION:Learn stretches to alleviate baby's gas\n	Use baby as weight resistance to strengthen your body\n	Restore mom's circulation & promote baby's\n	Help to facilitate baby's healthy spinal development\n\n\nFeeding baby is welcome. \n\nBring at least one blanket.\n\nBaby carriers also welcome.\n\n\n \n\nThis 5-week course meets every Thursday from 10-11am from Oct 19-Nov 16.\n\n \n\n$40 whole course OR $10 per class
X-ALT-DESC;FMTTYPE=text/html:<div>\n<ul>\n	<li><strong><span style="font-size:16px">Learn stretches to alleviate baby&#39\;s gas</span></strong></li>\n	<li><strong><span style="font-size:16px">Use baby as weight resistance to strengthen your body</span></strong></li>\n	<li><span style="font-size:16px">Restore mom&#39\;s circulation &amp\; promote baby&#39\;s</span></li>\n	<li><span style="font-size:16px">Help to facilitate baby&#39\;s healthy spinal development</span></li>\n</ul>\n\n<div><span style="font-size:16px">Feeding baby is welcome.&nbsp\;</span></div>\n\n<div><span style="font-size:16px">Bring at least one blanket.</span></div>\n\n<div><span style="font-size:16px">Baby carriers also welcome.</span></div>\n</div>\n\n<div><span style="font-size:16px">&nbsp\;</span></div>\n\n<div><span style="font-size:16px">This 5-week course meets every Thursday from 10-11am from Oct 19-Nov 16.</span></div>\n\n<div><span style="font-size:16px">&nbsp\;</span></div>\n\n<div><span style="font-size:16px">$40 whole course OR $10 per class</span></div>\n\n<div><span style="font-size:16px">&nbsp\;</span></div>\n\n<div><span style="font-size:16px">&nbsp\;</span></div>\n
LOCATION:BE Yoga 980 SW 6th Streeet #15 Grants Pass\, OR 97526
UID:e.1818.24653
SEQUENCE:3
DTSTAMP:20260424T200948Z
URL:https://business.grantspasschamber.org/events/details/mommy-or-daddy-me-yoga-10-26-2017-24653
END:VEVENT

END:VCALENDAR
