BEGIN:VCALENDAR
VERSION:2.0
PRODID:-//ChamberMaster//Event Calendar 2.0//EN
METHOD:PUBLISH
X-PUBLISHED-TTL:P3D
REFRESH-INTERVAL:P3D
CALSCALE:GREGORIAN
BEGIN:VEVENT
DTSTART:20160516T210000Z
DTEND:20160516T230000Z
X-MICROSOFT-CDO-ALLDAYEVENT:FALSE
SUMMARY:Monday dance\, Grants Pass Dance Club
DESCRIPTION:Dancing (ballroom\, swing\, country) to a live 18-piece band. Everyone welcome including beginning dancers. No dance partner needed.
X-ALT-DESC;FMTTYPE=text/html:Dancing (ballroom\, swing\, country) to a live 18-piece band. Everyone welcome including beginning dancers. No dance partner needed.
LOCATION:Grants Pass Fair Grounds\, Square Dance Building (2nd building on left)
UID:e.1818.17480
SEQUENCE:3
DTSTAMP:20260426T000137Z
URL:https://business.grantspasschamber.org/events/details/monday-dance-grants-pass-dance-club-05-16-2016-17480
END:VEVENT

END:VCALENDAR
