BEGIN:VCALENDAR
VERSION:2.0
PRODID:-//ChamberMaster//Event Calendar 2.0//EN
METHOD:PUBLISH
X-PUBLISHED-TTL:P3D
REFRESH-INTERVAL:P3D
CALSCALE:GREGORIAN
BEGIN:VEVENT
DTSTART;VALUE=DATE:20160604
DTEND;VALUE=DATE:20160605
TRANSP:TRANSPARENT
X-MICROSOFT-CDO-ALLDAYEVENT:TRUE
SUMMARY:Moon Tree Run ~ Siskyou Smokejumprers
DESCRIPTION:Races celebrating Siskyou Smokejumpers.\n\nBoth the 5K and 10K races start at 9am and registration starts at 8am.\n\nPlease come before 9am to get your bib.
X-ALT-DESC;FMTTYPE=text/html:<strong>Races celebrating Siskyou Smokejumpers.<br />\nBoth the 5K and 10K races start at 9am and registration starts at 8am.<br />\nPlease come before 9am to get your bib.</strong>
LOCATION:Cave Junction
UID:e.1818.15260
SEQUENCE:3
DTSTAMP:20260425T223758Z
URL:https://business.grantspasschamber.org/events/details/moon-tree-run-siskyou-smokejumprers-06-04-2016-15260
END:VEVENT

END:VCALENDAR
