BEGIN:VCALENDAR
VERSION:2.0
PRODID:-//ChamberMaster//Event Calendar 2.0//EN
METHOD:PUBLISH
X-PUBLISHED-TTL:P3D
REFRESH-INTERVAL:P3D
CALSCALE:GREGORIAN
BEGIN:VEVENT
DTSTART:20211002T220000Z
DTEND:20211003T030000Z
X-MICROSOFT-CDO-ALLDAYEVENT:FALSE
SUMMARY:Moose Lodge Riders Galice Resort Benefit
DESCRIPTION:The Moose Lodge Riders will be hosting a Benefit for Galice Resort on Saturday\, October 2nd from 3:00pm-8:00pm  at the Grants Pass/Merlin Moose Lodge.\n\n\n\nThere will be Live music by Brass Alibi\, Horse Shoes\, Darts\, Pool\, 50/50 Raffle and  BBQ for $20.00.
X-ALT-DESC;FMTTYPE=text/html:<span style="font-size:24px\;">The Moose Lodge Riders will be hosting a Benefit for Galice Resort on Saturday\, October 2nd from 3:00pm-8:00pm&nbsp\; at the Grants Pass/Merlin Moose Lodge.<br />\n<br />\nThere will be Live music by Brass Alibi\, Horse Shoes\, Darts\, Pool\, 50/50 Raffle and&nbsp\;</span><span style="color: rgb(51\, 51\, 51)\; font-family: sans-serif\, Arial\, Verdana\, &quot\;Trebuchet MS&quot\;\; font-size: 24px\; background-color: rgb(255\, 255\, 255)\;">&#8203\;BBQ for&nbsp\;</span><span style="color: rgb(51\, 51\, 51)\; font-family: sans-serif\, Arial\, Verdana\, &quot\;Trebuchet MS&quot\;\; font-size: 24px\; background-color: rgb(255\, 255\, 255)\;">$20.00.</span>
LOCATION:Moose Lodge 2454 330 Merlin Ave Merlin\, OR 97532
UID:e.1818.37845
SEQUENCE:3
DTSTAMP:20260421T074644Z
URL:https://business.grantspasschamber.org/events/details/moose-lodge-riders-galice-resort-benefit-37845
END:VEVENT

END:VCALENDAR
