BEGIN:VCALENDAR
VERSION:2.0
PRODID:-//ChamberMaster//Event Calendar 2.0//EN
METHOD:PUBLISH
X-PUBLISHED-TTL:P3D
REFRESH-INTERVAL:P3D
CALSCALE:GREGORIAN
BEGIN:VEVENT
DTSTART:20160503T183000Z
DTEND:20160503T213000Z
X-MICROSOFT-CDO-ALLDAYEVENT:FALSE
SUMMARY:Morrisons Lodge and Rogue Wilderness Adventures Job Fair
DESCRIPTION:The summer and rafting season is here! Morrisons Lodge and Rogue Wilderness Adventures is looking to hire for all kinds of positions!\n\n\n\nEverything from cooking\, wait staff\, maintenance\, river guides\, shuttle drivers and much more!\n\n\n\nCome see us during our job fair May 3rd\, 2016 from 11:30AM - 2:30PM at the Grants Pass WorkSource Office 1569 NE F St. Grants Pass\, OR 97526.
X-ALT-DESC;FMTTYPE=text/html:<strong>The summer and rafting season is here! Morrisons Lodge and Rogue Wilderness Adventures is looking to hire for all kinds of positions!<br />\n<br />\nEverything from cooking\, wait staff\, maintenance\, river guides\, shuttle drivers and much more!<br />\n<br />\nCome see us&nbsp\;during our job fair May 3rd\, 2016 from 11:30AM - 2:30PM at the Grants Pass WorkSource&nbsp\;Office 1569&nbsp\;NE F St. Grants Pass\, OR 97526. &nbsp\;</strong>
LOCATION:WorkSource Office 1569 NE F St. Grants Pass\, OR 97526
UID:e.1818.17453
SEQUENCE:3
DTSTAMP:20260426T000330Z
URL:https://business.grantspasschamber.org/events/details/morrisons-lodge-and-rogue-wilderness-adventures-job-fair-05-03-2016-17453
END:VEVENT

END:VCALENDAR
