BEGIN:VCALENDAR
VERSION:2.0
PRODID:-//ChamberMaster//Event Calendar 2.0//EN
METHOD:PUBLISH
X-PUBLISHED-TTL:P3D
REFRESH-INTERVAL:P3D
CALSCALE:GREGORIAN
BEGIN:VEVENT
DTSTART;VALUE=DATE:20160508
DTEND;VALUE=DATE:20160509
TRANSP:TRANSPARENT
X-MICROSOFT-CDO-ALLDAYEVENT:TRUE
SUMMARY:Mother?s Day Brunch & Dinner
DESCRIPTION:Mother"s Day Brunch & Dinner @Morrison's Rogue River Lodge 8500 Galice Road Merlin\, OR 97532\n\n\n\nCall for reservations: 800-826-1963 May 8\, 2016 10:00 am champagne brunch 1:30 pm champagne brunch 6:00 pm dinner\n\n\n\nMorrison's Rogue River Lodge is located 16 miles downstream from Grants Pass along the banks of the famed Rogue River. The historic log lodge and individual cabins?half-hidden by groves of evergreen\, maple\, and oak?are a peaceful refuge from the hectic\, everyday world. The beauty of the surroundings and the sounds of nature provide the background to your memorable Mother?s Day. Lodging available if you want to make a weekend of it.
X-ALT-DESC;FMTTYPE=text/html:<strong>Mother&quot\;s Day Brunch &amp\; Dinner @Morrison&#39\;s Rogue River Lodge 8500 Galice Road Merlin\, OR 97532<br />\n<br />\nCall for reservations: 800-826-1963 May 8\, 2016 10:00 am champagne brunch 1:30 pm champagne brunch 6:00 pm dinner<br />\n<br />\nMorrison&#39\;s Rogue River Lodge is located 16 miles downstream from Grants Pass along the banks of the famed Rogue River. The historic log lodge and individual cabins?half-hidden by groves of evergreen\, maple\, and oak?are a peaceful refuge from the hectic\, everyday world. The beauty of the surroundings and the sounds of nature provide the background to your memorable Mother?s Day. Lodging available if you want to make a weekend of it.</strong>
LOCATION:Morrison's Rogue River Lodge
UID:e.1818.17467
SEQUENCE:3
DTSTAMP:20260426T000029Z
URL:https://business.grantspasschamber.org/events/details/mother-s-day-brunch-dinner-05-08-2016-17467
END:VEVENT

END:VCALENDAR
